BEGIN:VCALENDAR
VERSION:2.0
PRODID:-//RCCG Saskatoon - ECPv6.15.11//NONSGML v1.0//EN
CALSCALE:GREGORIAN
METHOD:PUBLISH
X-WR-CALNAME:RCCG Saskatoon
X-ORIGINAL-URL:https://www.rccgsaskatoon.org
X-WR-CALDESC:Events for RCCG Saskatoon
REFRESH-INTERVAL;VALUE=DURATION:PT1H
X-Robots-Tag:noindex
X-PUBLISHED-TTL:PT1H
BEGIN:VTIMEZONE
TZID:America/Regina
BEGIN:STANDARD
TZOFFSETFROM:-0600
TZOFFSETTO:-0600
TZNAME:CST
DTSTART:20200101T000000
END:STANDARD
END:VTIMEZONE
BEGIN:VEVENT
DTSTART;TZID=America/Regina:20211201T190000
DTEND;TZID=America/Regina:20211201T203000
DTSTAMP:20260425T222740
CREATED:20201025T160145Z
LAST-MODIFIED:20201027T092611Z
UID:2375-1638385200-1638390600@www.rccgsaskatoon.org
SUMMARY:WEEKLY BIBLE STUDY (DIGGING DEEP)
DESCRIPTION:
URL:https://www.rccgsaskatoon.org/event/weekly-bible-study-digging-deep-2021-12-01/
LOCATION:RCCG Jesus House For All Nations\, 601 Eastlake Av\, Saskatoon\, SK\, S7N 1A1\, Canada
CATEGORIES:Chosen-Generation,Main church
ATTACH;FMTTYPE=image/jpeg:/wp-content/uploads/2020/04/Sunday-School.jpg
END:VEVENT
BEGIN:VEVENT
DTSTART;TZID=America/Regina:20211205T074500
DTEND;TZID=America/Regina:20211205T094500
DTSTAMP:20260425T222740
CREATED:20201025T160649Z
LAST-MODIFIED:20220604T181131Z
UID:7233-1638690300-1638697500@www.rccgsaskatoon.org
SUMMARY:THANKSGIVING SUNDAY - FIRST SERVICE
DESCRIPTION:
URL:https://www.rccgsaskatoon.org/event/joint-thanksgiving-service-2-2021-12-05/
LOCATION:RCCG Jesus House For All Nations\, 601 Eastlake Av\, Saskatoon\, SK\, S7N 1A1\, Canada
CATEGORIES:Main church
ATTACH;FMTTYPE=image/jpeg:/wp-content/uploads/2022/05/Jesus-House104.jpg
END:VEVENT
BEGIN:VEVENT
DTSTART;TZID=America/Regina:20211208T190000
DTEND;TZID=America/Regina:20211208T203000
DTSTAMP:20260425T222740
CREATED:20201025T160145Z
LAST-MODIFIED:20201027T092612Z
UID:2376-1638990000-1638995400@www.rccgsaskatoon.org
SUMMARY:WEEKLY BIBLE STUDY (DIGGING DEEP)
DESCRIPTION:
URL:https://www.rccgsaskatoon.org/event/weekly-bible-study-digging-deep-2021-12-08/
LOCATION:RCCG Jesus House For All Nations\, 601 Eastlake Av\, Saskatoon\, SK\, S7N 1A1\, Canada
CATEGORIES:Chosen-Generation,Main church
ATTACH;FMTTYPE=image/jpeg:/wp-content/uploads/2020/04/Sunday-School.jpg
END:VEVENT
BEGIN:VEVENT
DTSTART;TZID=America/Regina:20211212T074500
DTEND;TZID=America/Regina:20211212T093000
DTSTAMP:20260425T222740
CREATED:20210603T071505Z
LAST-MODIFIED:20220604T183231Z
UID:4944-1639295100-1639301400@www.rccgsaskatoon.org
SUMMARY:SUNDAY FIRST SERVICE
DESCRIPTION:Every 2nd to Last Sunday of the Month | 7:45am – 9:30am
URL:https://www.rccgsaskatoon.org/event/first-service-2-2021-12-12/
LOCATION:RCCG Jesus House For All Nations\, 601 Eastlake Av\, Saskatoon\, SK\, S7N 1A1\, Canada
CATEGORIES:Main church
ATTACH;FMTTYPE=image/jpeg:/wp-content/uploads/2020/04/67099006_3611242995582646_2014237995653136384_o.jpg
END:VEVENT
BEGIN:VEVENT
DTSTART;TZID=America/Regina:20211212T094500
DTEND;TZID=America/Regina:20211212T113000
DTSTAMP:20260425T222740
CREATED:20210603T065650Z
LAST-MODIFIED:20220604T183336Z
UID:4283-1639302300-1639308600@www.rccgsaskatoon.org
SUMMARY:SUNDAY SECOND SERVICE
DESCRIPTION:Every 2nd to Last Sunday of the Month | 9:45am – 11:30am
URL:https://www.rccgsaskatoon.org/event/second-service-2021-12-12/
LOCATION:RCCG Jesus House For All Nations\, 601 Eastlake Av\, Saskatoon\, SK\, S7N 1A1\, Canada
CATEGORIES:Main church
ATTACH;FMTTYPE=image/jpeg:/wp-content/uploads/2022/05/Jesus-House101.jpg
END:VEVENT
BEGIN:VEVENT
DTSTART;TZID=America/Regina:20211215T190000
DTEND;TZID=America/Regina:20211215T203000
DTSTAMP:20260425T222740
CREATED:20201025T160145Z
LAST-MODIFIED:20201027T092612Z
UID:2377-1639594800-1639600200@www.rccgsaskatoon.org
SUMMARY:WEEKLY BIBLE STUDY (DIGGING DEEP)
DESCRIPTION:
URL:https://www.rccgsaskatoon.org/event/weekly-bible-study-digging-deep-2021-12-15/
LOCATION:RCCG Jesus House For All Nations\, 601 Eastlake Av\, Saskatoon\, SK\, S7N 1A1\, Canada
CATEGORIES:Chosen-Generation,Main church
ATTACH;FMTTYPE=image/jpeg:/wp-content/uploads/2020/04/Sunday-School.jpg
END:VEVENT
BEGIN:VEVENT
DTSTART;TZID=America/Regina:20211218T063000
DTEND;TZID=America/Regina:20211218T063000
DTSTAMP:20260425T222740
CREATED:20201027T084347Z
LAST-MODIFIED:20220604T184630Z
UID:3030-1639809000-1639809000@www.rccgsaskatoon.org
SUMMARY:JOYFUL EXPECTATION PRAYER FORUM
DESCRIPTION:3rd Saturday of each month @ 6:30am via teleconference on (306) 801-6377
URL:https://www.rccgsaskatoon.org/event/joyful-expectation-prayer-forum-2021-12-18/
CATEGORIES:Main church
ATTACH;FMTTYPE=image/jpeg:/wp-content/uploads/2020/10/Expected-Mum.jpg
END:VEVENT
BEGIN:VEVENT
DTSTART;TZID=America/Regina:20211219T074500
DTEND;TZID=America/Regina:20211219T093000
DTSTAMP:20260425T222740
CREATED:20210603T071505Z
LAST-MODIFIED:20220604T183256Z
UID:4945-1639899900-1639906200@www.rccgsaskatoon.org
SUMMARY:SUNDAY FIRST SERVICE
DESCRIPTION:Every 2nd to Last Sunday of the Month | 7:45am – 9:30am
URL:https://www.rccgsaskatoon.org/event/first-service-2-2021-12-19/
LOCATION:RCCG Jesus House For All Nations\, 601 Eastlake Av\, Saskatoon\, SK\, S7N 1A1\, Canada
CATEGORIES:Main church
ATTACH;FMTTYPE=image/jpeg:/wp-content/uploads/2020/04/67099006_3611242995582646_2014237995653136384_o.jpg
END:VEVENT
BEGIN:VEVENT
DTSTART;TZID=America/Regina:20211219T094500
DTEND;TZID=America/Regina:20211219T113000
DTSTAMP:20260425T222740
CREATED:20210603T065650Z
LAST-MODIFIED:20220604T183012Z
UID:4290-1639907100-1639913400@www.rccgsaskatoon.org
SUMMARY:SUNDAY SECOND SERVICE
DESCRIPTION:
URL:https://www.rccgsaskatoon.org/event/second-service-2021-12-19/
LOCATION:RCCG Jesus House For All Nations\, 601 Eastlake Av\, Saskatoon\, SK\, S7N 1A1\, Canada
CATEGORIES:Main church
ATTACH;FMTTYPE=image/jpeg:/wp-content/uploads/2022/05/Jesus-House101.jpg
END:VEVENT
BEGIN:VEVENT
DTSTART;TZID=America/Regina:20211222T190000
DTEND;TZID=America/Regina:20211222T203000
DTSTAMP:20260425T222740
CREATED:20201025T160145Z
LAST-MODIFIED:20201027T092613Z
UID:2378-1640199600-1640205000@www.rccgsaskatoon.org
SUMMARY:WEEKLY BIBLE STUDY (DIGGING DEEP)
DESCRIPTION:
URL:https://www.rccgsaskatoon.org/event/weekly-bible-study-digging-deep-2021-12-22/
LOCATION:RCCG Jesus House For All Nations\, 601 Eastlake Av\, Saskatoon\, SK\, S7N 1A1\, Canada
CATEGORIES:Chosen-Generation,Main church
ATTACH;FMTTYPE=image/jpeg:/wp-content/uploads/2020/04/Sunday-School.jpg
END:VEVENT
BEGIN:VEVENT
DTSTART;TZID=America/Regina:20211225T090000
DTEND;TZID=America/Regina:20211225T120000
DTSTAMP:20260425T222740
CREATED:20210126T164028Z
LAST-MODIFIED:20210126T164342Z
UID:3456-1640422800-1640433600@www.rccgsaskatoon.org
SUMMARY:Christmas Day Service
DESCRIPTION:
URL:https://www.rccgsaskatoon.org/event/christmas-day-service/
LOCATION:RCCG Jesus House For All Nations\, 601 Eastlake Av\, Saskatoon\, SK\, S7N 1A1\, Canada
CATEGORIES:Chosen-Generation,Main church
END:VEVENT
BEGIN:VEVENT
DTSTART;TZID=America/Regina:20211226T074500
DTEND;TZID=America/Regina:20211226T093000
DTSTAMP:20260425T222740
CREATED:20210603T071505Z
LAST-MODIFIED:20220604T183257Z
UID:4946-1640504700-1640511000@www.rccgsaskatoon.org
SUMMARY:SUNDAY FIRST SERVICE
DESCRIPTION:Every 2nd to Last Sunday of the Month | 7:45am – 9:30am
URL:https://www.rccgsaskatoon.org/event/first-service-2-2021-12-26/
LOCATION:RCCG Jesus House For All Nations\, 601 Eastlake Av\, Saskatoon\, SK\, S7N 1A1\, Canada
CATEGORIES:Main church
ATTACH;FMTTYPE=image/jpeg:/wp-content/uploads/2020/04/67099006_3611242995582646_2014237995653136384_o.jpg
END:VEVENT
BEGIN:VEVENT
DTSTART;TZID=America/Regina:20211226T094500
DTEND;TZID=America/Regina:20211226T113000
DTSTAMP:20260425T222740
CREATED:20210603T065650Z
LAST-MODIFIED:20220604T183012Z
UID:4291-1640511900-1640518200@www.rccgsaskatoon.org
SUMMARY:SUNDAY SECOND SERVICE
DESCRIPTION:
URL:https://www.rccgsaskatoon.org/event/second-service-2021-12-26/
LOCATION:RCCG Jesus House For All Nations\, 601 Eastlake Av\, Saskatoon\, SK\, S7N 1A1\, Canada
CATEGORIES:Main church
ATTACH;FMTTYPE=image/jpeg:/wp-content/uploads/2022/05/Jesus-House101.jpg
END:VEVENT
BEGIN:VEVENT
DTSTART;TZID=America/Regina:20211229T190000
DTEND;TZID=America/Regina:20211229T203000
DTSTAMP:20260425T222740
CREATED:20201025T160145Z
LAST-MODIFIED:20201027T092613Z
UID:2379-1640804400-1640809800@www.rccgsaskatoon.org
SUMMARY:WEEKLY BIBLE STUDY (DIGGING DEEP)
DESCRIPTION:
URL:https://www.rccgsaskatoon.org/event/weekly-bible-study-digging-deep-2021-12-29/
LOCATION:RCCG Jesus House For All Nations\, 601 Eastlake Av\, Saskatoon\, SK\, S7N 1A1\, Canada
CATEGORIES:Chosen-Generation,Main church
ATTACH;FMTTYPE=image/jpeg:/wp-content/uploads/2020/04/Sunday-School.jpg
END:VEVENT
BEGIN:VEVENT
DTSTART;TZID=America/Regina:20211231T200000
DTEND;TZID=America/Regina:20220101T010000
DTSTAMP:20260425T222740
CREATED:20210126T164227Z
LAST-MODIFIED:20210126T164227Z
UID:3458-1640980800-1640998800@www.rccgsaskatoon.org
SUMMARY:Festival of Praise
DESCRIPTION:
URL:https://www.rccgsaskatoon.org/event/festival-of-praise/
LOCATION:Saskatoon
CATEGORIES:Chosen-Generation,Main church
END:VEVENT
BEGIN:VEVENT
DTSTART;TZID=America/Regina:20211231T220000
DTEND;TZID=America/Regina:20211231T220000
DTSTAMP:20260425T222740
CREATED:20201025T160145Z
LAST-MODIFIED:20220604T183545Z
UID:2984-1640988000-1640988000@www.rccgsaskatoon.org
SUMMARY:HOLY GHOST SERVICE (VIGIL)
DESCRIPTION:1st Friday of every month – Pastors’ Vigil/Prayer Altar (12 midnight – 3:00am) \n2nd Friday of every month – Choir Vigil (9:00pm – 12 midnight) \n3rd Friday of every month – Prayer Teams Vigil (12 midnight – 4:00am) \nLast Friday of every month – Church Holy Ghost Service (10:00pm – 1:00am)
URL:https://www.rccgsaskatoon.org/event/vigil-2021-12-31/
LOCATION:RCCG Jesus House For All Nations\, 601 Eastlake Av\, Saskatoon\, SK\, S7N 1A1\, Canada
CATEGORIES:Chosen-Generation,Main church
ATTACH;FMTTYPE=image/jpeg:/wp-content/uploads/2020/04/Prayer-group.jpg
END:VEVENT
END:VCALENDAR