BEGIN:VCALENDAR
VERSION:2.0
PRODID:-//RCCG Saskatoon - ECPv6.15.11//NONSGML v1.0//EN
CALSCALE:GREGORIAN
METHOD:PUBLISH
X-WR-CALNAME:RCCG Saskatoon
X-ORIGINAL-URL:https://www.rccgsaskatoon.org
X-WR-CALDESC:Events for RCCG Saskatoon
REFRESH-INTERVAL;VALUE=DURATION:PT1H
X-Robots-Tag:noindex
X-PUBLISHED-TTL:PT1H
BEGIN:VTIMEZONE
TZID:America/Regina
BEGIN:STANDARD
TZOFFSETFROM:-0600
TZOFFSETTO:-0600
TZNAME:CST
DTSTART:20200101T000000
END:STANDARD
END:VTIMEZONE
BEGIN:VEVENT
DTSTART;TZID=America/Regina:20211231T200000
DTEND;TZID=America/Regina:20220101T010000
DTSTAMP:20260425T211042
CREATED:20210126T164227Z
LAST-MODIFIED:20210126T164227Z
UID:3458-1640980800-1640998800@www.rccgsaskatoon.org
SUMMARY:Festival of Praise
DESCRIPTION:
URL:https://www.rccgsaskatoon.org/event/festival-of-praise/
LOCATION:Saskatoon
CATEGORIES:Chosen-Generation,Main church
END:VEVENT
BEGIN:VEVENT
DTSTART;TZID=America/Regina:20220102T074500
DTEND;TZID=America/Regina:20220102T094500
DTSTAMP:20260425T211042
CREATED:20201025T160649Z
LAST-MODIFIED:20220604T181132Z
UID:7234-1641109500-1641116700@www.rccgsaskatoon.org
SUMMARY:THANKSGIVING SUNDAY - FIRST SERVICE
DESCRIPTION:
URL:https://www.rccgsaskatoon.org/event/joint-thanksgiving-service-2-2022-01-02/
LOCATION:RCCG Jesus House For All Nations\, 601 Eastlake Av\, Saskatoon\, SK\, S7N 1A1\, Canada
CATEGORIES:Main church
ATTACH;FMTTYPE=image/jpeg:/wp-content/uploads/2022/05/Jesus-House104.jpg
END:VEVENT
BEGIN:VEVENT
DTSTART;TZID=America/Regina:20220105T190000
DTEND;TZID=America/Regina:20220105T203000
DTSTAMP:20260425T211042
CREATED:20201025T160145Z
LAST-MODIFIED:20201027T092613Z
UID:2380-1641409200-1641414600@www.rccgsaskatoon.org
SUMMARY:WEEKLY BIBLE STUDY (DIGGING DEEP)
DESCRIPTION:
URL:https://www.rccgsaskatoon.org/event/weekly-bible-study-digging-deep-2022-01-05/
LOCATION:RCCG Jesus House For All Nations\, 601 Eastlake Av\, Saskatoon\, SK\, S7N 1A1\, Canada
CATEGORIES:Chosen-Generation,Main church
ATTACH;FMTTYPE=image/jpeg:/wp-content/uploads/2020/04/Sunday-School.jpg
END:VEVENT
BEGIN:VEVENT
DTSTART;TZID=America/Regina:20220109T074500
DTEND;TZID=America/Regina:20220109T093000
DTSTAMP:20260425T211042
CREATED:20210603T071505Z
LAST-MODIFIED:20220604T183258Z
UID:4947-1641714300-1641720600@www.rccgsaskatoon.org
SUMMARY:SUNDAY FIRST SERVICE
DESCRIPTION:Every 2nd to Last Sunday of the Month | 7:45am – 9:30am
URL:https://www.rccgsaskatoon.org/event/first-service-2-2022-01-09/
LOCATION:RCCG Jesus House For All Nations\, 601 Eastlake Av\, Saskatoon\, SK\, S7N 1A1\, Canada
CATEGORIES:Main church
ATTACH;FMTTYPE=image/jpeg:/wp-content/uploads/2020/04/67099006_3611242995582646_2014237995653136384_o.jpg
END:VEVENT
BEGIN:VEVENT
DTSTART;TZID=America/Regina:20220109T094500
DTEND;TZID=America/Regina:20220109T113000
DTSTAMP:20260425T211042
CREATED:20210603T065650Z
LAST-MODIFIED:20220604T183012Z
UID:4292-1641721500-1641727800@www.rccgsaskatoon.org
SUMMARY:SUNDAY SECOND SERVICE
DESCRIPTION:
URL:https://www.rccgsaskatoon.org/event/second-service-2022-01-09/
LOCATION:RCCG Jesus House For All Nations\, 601 Eastlake Av\, Saskatoon\, SK\, S7N 1A1\, Canada
CATEGORIES:Main church
ATTACH;FMTTYPE=image/jpeg:/wp-content/uploads/2022/05/Jesus-House101.jpg
END:VEVENT
BEGIN:VEVENT
DTSTART;TZID=America/Regina:20220112T190000
DTEND;TZID=America/Regina:20220112T203000
DTSTAMP:20260425T211042
CREATED:20201025T160145Z
LAST-MODIFIED:20201027T092613Z
UID:2381-1642014000-1642019400@www.rccgsaskatoon.org
SUMMARY:WEEKLY BIBLE STUDY (DIGGING DEEP)
DESCRIPTION:
URL:https://www.rccgsaskatoon.org/event/weekly-bible-study-digging-deep-2022-01-12/
LOCATION:RCCG Jesus House For All Nations\, 601 Eastlake Av\, Saskatoon\, SK\, S7N 1A1\, Canada
CATEGORIES:Chosen-Generation,Main church
ATTACH;FMTTYPE=image/jpeg:/wp-content/uploads/2020/04/Sunday-School.jpg
END:VEVENT
BEGIN:VEVENT
DTSTART;TZID=America/Regina:20220115T063000
DTEND;TZID=America/Regina:20220115T063000
DTSTAMP:20260425T211042
CREATED:20201027T084347Z
LAST-MODIFIED:20220604T184631Z
UID:3031-1642228200-1642228200@www.rccgsaskatoon.org
SUMMARY:JOYFUL EXPECTATION PRAYER FORUM
DESCRIPTION:3rd Saturday of each month @ 6:30am via teleconference on (306) 801-6377
URL:https://www.rccgsaskatoon.org/event/joyful-expectation-prayer-forum-2022-01-15/
CATEGORIES:Main church
ATTACH;FMTTYPE=image/jpeg:/wp-content/uploads/2020/10/Expected-Mum.jpg
END:VEVENT
BEGIN:VEVENT
DTSTART;TZID=America/Regina:20220116T074500
DTEND;TZID=America/Regina:20220116T093000
DTSTAMP:20260425T211042
CREATED:20210603T071505Z
LAST-MODIFIED:20220604T183259Z
UID:4948-1642319100-1642325400@www.rccgsaskatoon.org
SUMMARY:SUNDAY FIRST SERVICE
DESCRIPTION:Every 2nd to Last Sunday of the Month | 7:45am – 9:30am
URL:https://www.rccgsaskatoon.org/event/first-service-2-2022-01-16/
LOCATION:RCCG Jesus House For All Nations\, 601 Eastlake Av\, Saskatoon\, SK\, S7N 1A1\, Canada
CATEGORIES:Main church
ATTACH;FMTTYPE=image/jpeg:/wp-content/uploads/2020/04/67099006_3611242995582646_2014237995653136384_o.jpg
END:VEVENT
BEGIN:VEVENT
DTSTART;TZID=America/Regina:20220116T094500
DTEND;TZID=America/Regina:20220116T113000
DTSTAMP:20260425T211042
CREATED:20210603T065650Z
LAST-MODIFIED:20220604T183013Z
UID:4293-1642326300-1642332600@www.rccgsaskatoon.org
SUMMARY:SUNDAY SECOND SERVICE
DESCRIPTION:
URL:https://www.rccgsaskatoon.org/event/second-service-2022-01-16/
LOCATION:RCCG Jesus House For All Nations\, 601 Eastlake Av\, Saskatoon\, SK\, S7N 1A1\, Canada
CATEGORIES:Main church
ATTACH;FMTTYPE=image/jpeg:/wp-content/uploads/2022/05/Jesus-House101.jpg
END:VEVENT
BEGIN:VEVENT
DTSTART;TZID=America/Regina:20220119T190000
DTEND;TZID=America/Regina:20220119T203000
DTSTAMP:20260425T211042
CREATED:20201025T160145Z
LAST-MODIFIED:20201027T092613Z
UID:2382-1642618800-1642624200@www.rccgsaskatoon.org
SUMMARY:WEEKLY BIBLE STUDY (DIGGING DEEP)
DESCRIPTION:
URL:https://www.rccgsaskatoon.org/event/weekly-bible-study-digging-deep-2022-01-19/
LOCATION:RCCG Jesus House For All Nations\, 601 Eastlake Av\, Saskatoon\, SK\, S7N 1A1\, Canada
CATEGORIES:Chosen-Generation,Main church
ATTACH;FMTTYPE=image/jpeg:/wp-content/uploads/2020/04/Sunday-School.jpg
END:VEVENT
BEGIN:VEVENT
DTSTART;TZID=America/Regina:20220123T074500
DTEND;TZID=America/Regina:20220123T093000
DTSTAMP:20260425T211042
CREATED:20210603T071505Z
LAST-MODIFIED:20220604T183300Z
UID:4949-1642923900-1642930200@www.rccgsaskatoon.org
SUMMARY:SUNDAY FIRST SERVICE
DESCRIPTION:Every 2nd to Last Sunday of the Month | 7:45am – 9:30am
URL:https://www.rccgsaskatoon.org/event/first-service-2-2022-01-23/
LOCATION:RCCG Jesus House For All Nations\, 601 Eastlake Av\, Saskatoon\, SK\, S7N 1A1\, Canada
CATEGORIES:Main church
ATTACH;FMTTYPE=image/jpeg:/wp-content/uploads/2020/04/67099006_3611242995582646_2014237995653136384_o.jpg
END:VEVENT
BEGIN:VEVENT
DTSTART;TZID=America/Regina:20220123T094500
DTEND;TZID=America/Regina:20220123T113000
DTSTAMP:20260425T211042
CREATED:20210603T065650Z
LAST-MODIFIED:20220604T183013Z
UID:4294-1642931100-1642937400@www.rccgsaskatoon.org
SUMMARY:SUNDAY SECOND SERVICE
DESCRIPTION:
URL:https://www.rccgsaskatoon.org/event/second-service-2022-01-23/
LOCATION:RCCG Jesus House For All Nations\, 601 Eastlake Av\, Saskatoon\, SK\, S7N 1A1\, Canada
CATEGORIES:Main church
ATTACH;FMTTYPE=image/jpeg:/wp-content/uploads/2022/05/Jesus-House101.jpg
END:VEVENT
BEGIN:VEVENT
DTSTART;TZID=America/Regina:20220125T090000
DTEND;TZID=America/Regina:20220125T120000
DTSTAMP:20260425T211042
CREATED:20210126T164028Z
LAST-MODIFIED:20210126T164028Z
UID:3461-1643101200-1643112000@www.rccgsaskatoon.org
SUMMARY:Christmas Day Service
DESCRIPTION:
URL:https://www.rccgsaskatoon.org/event/christmas-day-service-2022-01-25/
LOCATION:RCCG Jesus House For All Nations\, 601 Eastlake Av\, Saskatoon\, SK\, S7N 1A1\, Canada
CATEGORIES:Chosen-Generation,Main church
END:VEVENT
BEGIN:VEVENT
DTSTART;TZID=America/Regina:20220126T190000
DTEND;TZID=America/Regina:20220126T203000
DTSTAMP:20260425T211042
CREATED:20201025T160145Z
LAST-MODIFIED:20201027T092613Z
UID:2383-1643223600-1643229000@www.rccgsaskatoon.org
SUMMARY:WEEKLY BIBLE STUDY (DIGGING DEEP)
DESCRIPTION:
URL:https://www.rccgsaskatoon.org/event/weekly-bible-study-digging-deep-2022-01-26/
LOCATION:RCCG Jesus House For All Nations\, 601 Eastlake Av\, Saskatoon\, SK\, S7N 1A1\, Canada
CATEGORIES:Chosen-Generation,Main church
ATTACH;FMTTYPE=image/jpeg:/wp-content/uploads/2020/04/Sunday-School.jpg
END:VEVENT
BEGIN:VEVENT
DTSTART;TZID=America/Regina:20220128T220000
DTEND;TZID=America/Regina:20220128T220000
DTSTAMP:20260425T211042
CREATED:20201025T160145Z
LAST-MODIFIED:20220604T183545Z
UID:2985-1643407200-1643407200@www.rccgsaskatoon.org
SUMMARY:HOLY GHOST SERVICE (VIGIL)
DESCRIPTION:1st Friday of every month – Pastors’ Vigil/Prayer Altar (12 midnight – 3:00am) \n2nd Friday of every month – Choir Vigil (9:00pm – 12 midnight) \n3rd Friday of every month – Prayer Teams Vigil (12 midnight – 4:00am) \nLast Friday of every month – Church Holy Ghost Service (10:00pm – 1:00am)
URL:https://www.rccgsaskatoon.org/event/vigil-2022-01-28/
LOCATION:RCCG Jesus House For All Nations\, 601 Eastlake Av\, Saskatoon\, SK\, S7N 1A1\, Canada
CATEGORIES:Chosen-Generation,Main church
ATTACH;FMTTYPE=image/jpeg:/wp-content/uploads/2020/04/Prayer-group.jpg
END:VEVENT
BEGIN:VEVENT
DTSTART;TZID=America/Regina:20220130T074500
DTEND;TZID=America/Regina:20220130T093000
DTSTAMP:20260425T211042
CREATED:20210603T071505Z
LAST-MODIFIED:20220604T183300Z
UID:4950-1643528700-1643535000@www.rccgsaskatoon.org
SUMMARY:SUNDAY FIRST SERVICE
DESCRIPTION:Every 2nd to Last Sunday of the Month | 7:45am – 9:30am
URL:https://www.rccgsaskatoon.org/event/first-service-2-2022-01-30/
LOCATION:RCCG Jesus House For All Nations\, 601 Eastlake Av\, Saskatoon\, SK\, S7N 1A1\, Canada
CATEGORIES:Main church
ATTACH;FMTTYPE=image/jpeg:/wp-content/uploads/2020/04/67099006_3611242995582646_2014237995653136384_o.jpg
END:VEVENT
BEGIN:VEVENT
DTSTART;TZID=America/Regina:20220130T094500
DTEND;TZID=America/Regina:20220130T113000
DTSTAMP:20260425T211042
CREATED:20210603T065650Z
LAST-MODIFIED:20220604T183013Z
UID:4295-1643535900-1643542200@www.rccgsaskatoon.org
SUMMARY:SUNDAY SECOND SERVICE
DESCRIPTION:
URL:https://www.rccgsaskatoon.org/event/second-service-2022-01-30/
LOCATION:RCCG Jesus House For All Nations\, 601 Eastlake Av\, Saskatoon\, SK\, S7N 1A1\, Canada
CATEGORIES:Main church
ATTACH;FMTTYPE=image/jpeg:/wp-content/uploads/2022/05/Jesus-House101.jpg
END:VEVENT
END:VCALENDAR