BEGIN:VCALENDAR
VERSION:2.0
PRODID:-//RCCG Saskatoon - ECPv6.15.11//NONSGML v1.0//EN
CALSCALE:GREGORIAN
METHOD:PUBLISH
X-WR-CALNAME:RCCG Saskatoon
X-ORIGINAL-URL:https://www.rccgsaskatoon.org
X-WR-CALDESC:Events for RCCG Saskatoon
REFRESH-INTERVAL;VALUE=DURATION:PT1H
X-Robots-Tag:noindex
X-PUBLISHED-TTL:PT1H
BEGIN:VTIMEZONE
TZID:America/Regina
BEGIN:STANDARD
TZOFFSETFROM:-0600
TZOFFSETTO:-0600
TZNAME:CST
DTSTART:20210101T000000
END:STANDARD
END:VTIMEZONE
BEGIN:VEVENT
DTSTART;TZID=America/Regina:20220302T190000
DTEND;TZID=America/Regina:20220302T203000
DTSTAMP:20260425T181732
CREATED:20201025T160145Z
LAST-MODIFIED:20201027T092616Z
UID:2388-1646247600-1646253000@www.rccgsaskatoon.org
SUMMARY:WEEKLY BIBLE STUDY (DIGGING DEEP)
DESCRIPTION:
URL:https://www.rccgsaskatoon.org/event/weekly-bible-study-digging-deep-2022-03-02/
LOCATION:RCCG Jesus House For All Nations\, 601 Eastlake Av\, Saskatoon\, SK\, S7N 1A1\, Canada
CATEGORIES:Chosen-Generation,Main church
ATTACH;FMTTYPE=image/jpeg:/wp-content/uploads/2020/04/Sunday-School.jpg
END:VEVENT
BEGIN:VEVENT
DTSTART;TZID=America/Regina:20220306T074500
DTEND;TZID=America/Regina:20220306T094500
DTSTAMP:20260425T181732
CREATED:20201025T160649Z
LAST-MODIFIED:20220604T181134Z
UID:7236-1646552700-1646559900@www.rccgsaskatoon.org
SUMMARY:THANKSGIVING SUNDAY - FIRST SERVICE
DESCRIPTION:
URL:https://www.rccgsaskatoon.org/event/joint-thanksgiving-service-2-2022-03-06/
LOCATION:RCCG Jesus House For All Nations\, 601 Eastlake Av\, Saskatoon\, SK\, S7N 1A1\, Canada
CATEGORIES:Main church
ATTACH;FMTTYPE=image/jpeg:/wp-content/uploads/2022/05/Jesus-House104.jpg
END:VEVENT
BEGIN:VEVENT
DTSTART;TZID=America/Regina:20220306T100000
DTEND;TZID=America/Regina:20220306T120000
DTSTAMP:20260425T181732
CREATED:20220306T160248Z
LAST-MODIFIED:20220604T180938Z
UID:7314-1646560800-1646568000@www.rccgsaskatoon.org
SUMMARY:THANKSGIVING SUNDAY - SECOND SERVICE
DESCRIPTION:
URL:https://www.rccgsaskatoon.org/event/thanksgiving-sunday-second-service/
LOCATION:RCCG Jesus House For All Nations\, 601 Eastlake Av\, Saskatoon\, SK\, S7N 1A1\, Canada
CATEGORIES:Main church
ATTACH;FMTTYPE=image/jpeg:/wp-content/uploads/2022/05/Jesus-House103.jpg
END:VEVENT
BEGIN:VEVENT
DTSTART;TZID=America/Regina:20220309T190000
DTEND;TZID=America/Regina:20220309T203000
DTSTAMP:20260425T181732
CREATED:20201025T160145Z
LAST-MODIFIED:20201027T092616Z
UID:2389-1646852400-1646857800@www.rccgsaskatoon.org
SUMMARY:WEEKLY BIBLE STUDY (DIGGING DEEP)
DESCRIPTION:
URL:https://www.rccgsaskatoon.org/event/weekly-bible-study-digging-deep-2022-03-09/
LOCATION:RCCG Jesus House For All Nations\, 601 Eastlake Av\, Saskatoon\, SK\, S7N 1A1\, Canada
CATEGORIES:Chosen-Generation,Main church
ATTACH;FMTTYPE=image/jpeg:/wp-content/uploads/2020/04/Sunday-School.jpg
END:VEVENT
BEGIN:VEVENT
DTSTART;TZID=America/Regina:20220313T074500
DTEND;TZID=America/Regina:20220313T093000
DTSTAMP:20260425T181732
CREATED:20210603T071505Z
LAST-MODIFIED:20220604T183302Z
UID:4954-1647157500-1647163800@www.rccgsaskatoon.org
SUMMARY:SUNDAY FIRST SERVICE
DESCRIPTION:Every 2nd to Last Sunday of the Month | 7:45am – 9:30am
URL:https://www.rccgsaskatoon.org/event/first-service-2-2022-03-13/
LOCATION:RCCG Jesus House For All Nations\, 601 Eastlake Av\, Saskatoon\, SK\, S7N 1A1\, Canada
CATEGORIES:Main church
ATTACH;FMTTYPE=image/jpeg:/wp-content/uploads/2020/04/67099006_3611242995582646_2014237995653136384_o.jpg
END:VEVENT
BEGIN:VEVENT
DTSTART;TZID=America/Regina:20220313T094500
DTEND;TZID=America/Regina:20220313T113000
DTSTAMP:20260425T181732
CREATED:20210603T065650Z
LAST-MODIFIED:20220604T183014Z
UID:4300-1647164700-1647171000@www.rccgsaskatoon.org
SUMMARY:SUNDAY SECOND SERVICE
DESCRIPTION:
URL:https://www.rccgsaskatoon.org/event/second-service-2022-03-13/
LOCATION:RCCG Jesus House For All Nations\, 601 Eastlake Av\, Saskatoon\, SK\, S7N 1A1\, Canada
CATEGORIES:Main church
ATTACH;FMTTYPE=image/jpeg:/wp-content/uploads/2022/05/Jesus-House101.jpg
END:VEVENT
BEGIN:VEVENT
DTSTART;TZID=America/Regina:20220316T190000
DTEND;TZID=America/Regina:20220316T203000
DTSTAMP:20260425T181732
CREATED:20201025T160145Z
LAST-MODIFIED:20201027T092616Z
UID:2390-1647457200-1647462600@www.rccgsaskatoon.org
SUMMARY:WEEKLY BIBLE STUDY (DIGGING DEEP)
DESCRIPTION:
URL:https://www.rccgsaskatoon.org/event/weekly-bible-study-digging-deep-2022-03-16/
LOCATION:RCCG Jesus House For All Nations\, 601 Eastlake Av\, Saskatoon\, SK\, S7N 1A1\, Canada
CATEGORIES:Chosen-Generation,Main church
ATTACH;FMTTYPE=image/jpeg:/wp-content/uploads/2020/04/Sunday-School.jpg
END:VEVENT
BEGIN:VEVENT
DTSTART;TZID=America/Regina:20220319T063000
DTEND;TZID=America/Regina:20220319T063000
DTSTAMP:20260425T181732
CREATED:20201027T084347Z
LAST-MODIFIED:20220604T184507Z
UID:3033-1647671400-1647671400@www.rccgsaskatoon.org
SUMMARY:JOYFUL EXPECTATION PRAYER FORUM
DESCRIPTION:3rd Saturday of each month @ 6:30am via teleconference on (306) 801-6377
URL:https://www.rccgsaskatoon.org/event/joyful-expectation-prayer-forum-2022-03-19/
CATEGORIES:Main church
ATTACH;FMTTYPE=image/jpeg:/wp-content/uploads/2020/10/Expected-Mum.jpg
END:VEVENT
BEGIN:VEVENT
DTSTART;TZID=America/Regina:20220320T074500
DTEND;TZID=America/Regina:20220320T093000
DTSTAMP:20260425T181732
CREATED:20210603T071505Z
LAST-MODIFIED:20220604T191713Z
UID:4955-1647762300-1647768600@www.rccgsaskatoon.org
SUMMARY:SUNDAY FIRST SERVICE
DESCRIPTION:Every 2nd to Last Sunday of the Month | 7:45am – 9:30am
URL:https://www.rccgsaskatoon.org/event/first-service-2-2022-03-20/
LOCATION:RCCG Jesus House For All Nations\, 601 Eastlake Av\, Saskatoon\, SK\, S7N 1A1\, Canada
CATEGORIES:Main church
ATTACH;FMTTYPE=image/jpeg:/wp-content/uploads/2020/04/67099006_3611242995582646_2014237995653136384_o.jpg
END:VEVENT
BEGIN:VEVENT
DTSTART;TZID=America/Regina:20220320T094500
DTEND;TZID=America/Regina:20220320T113000
DTSTAMP:20260425T181732
CREATED:20210603T065650Z
LAST-MODIFIED:20220604T183018Z
UID:4310-1647769500-1647775800@www.rccgsaskatoon.org
SUMMARY:SUNDAY SECOND SERVICE
DESCRIPTION:
URL:https://www.rccgsaskatoon.org/event/second-service-2022-03-20/
LOCATION:RCCG Jesus House For All Nations\, 601 Eastlake Av\, Saskatoon\, SK\, S7N 1A1\, Canada
CATEGORIES:Main church
ATTACH;FMTTYPE=image/jpeg:/wp-content/uploads/2022/05/Jesus-House101.jpg
END:VEVENT
BEGIN:VEVENT
DTSTART;TZID=America/Regina:20220323T190000
DTEND;TZID=America/Regina:20220323T203000
DTSTAMP:20260425T181732
CREATED:20201025T160145Z
LAST-MODIFIED:20201027T092616Z
UID:2391-1648062000-1648067400@www.rccgsaskatoon.org
SUMMARY:WEEKLY BIBLE STUDY (DIGGING DEEP)
DESCRIPTION:
URL:https://www.rccgsaskatoon.org/event/weekly-bible-study-digging-deep-2022-03-23/
LOCATION:RCCG Jesus House For All Nations\, 601 Eastlake Av\, Saskatoon\, SK\, S7N 1A1\, Canada
CATEGORIES:Chosen-Generation,Main church
ATTACH;FMTTYPE=image/jpeg:/wp-content/uploads/2020/04/Sunday-School.jpg
END:VEVENT
BEGIN:VEVENT
DTSTART;TZID=America/Regina:20220325T220000
DTEND;TZID=America/Regina:20220325T220000
DTSTAMP:20260425T181732
CREATED:20201025T160145Z
LAST-MODIFIED:20220604T183548Z
UID:2987-1648245600-1648245600@www.rccgsaskatoon.org
SUMMARY:HOLY GHOST SERVICE (VIGIL)
DESCRIPTION:1st Friday of every month – Pastors’ Vigil/Prayer Altar (12 midnight – 3:00am) \n2nd Friday of every month – Choir Vigil (9:00pm – 12 midnight) \n3rd Friday of every month – Prayer Teams Vigil (12 midnight – 4:00am) \nLast Friday of every month – Church Holy Ghost Service (10:00pm – 1:00am)
URL:https://www.rccgsaskatoon.org/event/vigil-2022-03-25/
LOCATION:RCCG Jesus House For All Nations\, 601 Eastlake Av\, Saskatoon\, SK\, S7N 1A1\, Canada
CATEGORIES:Chosen-Generation,Main church
ATTACH;FMTTYPE=image/jpeg:/wp-content/uploads/2020/04/Prayer-group.jpg
END:VEVENT
BEGIN:VEVENT
DTSTART;TZID=America/Regina:20220327T074500
DTEND;TZID=America/Regina:20220327T093000
DTSTAMP:20260425T181732
CREATED:20210603T071505Z
LAST-MODIFIED:20220604T191713Z
UID:4956-1648367100-1648373400@www.rccgsaskatoon.org
SUMMARY:SUNDAY FIRST SERVICE
DESCRIPTION:Every 2nd to Last Sunday of the Month | 7:45am – 9:30am
URL:https://www.rccgsaskatoon.org/event/first-service-2-2022-03-27/
LOCATION:RCCG Jesus House For All Nations\, 601 Eastlake Av\, Saskatoon\, SK\, S7N 1A1\, Canada
CATEGORIES:Main church
ATTACH;FMTTYPE=image/jpeg:/wp-content/uploads/2020/04/67099006_3611242995582646_2014237995653136384_o.jpg
END:VEVENT
BEGIN:VEVENT
DTSTART;TZID=America/Regina:20220327T094500
DTEND;TZID=America/Regina:20220327T113000
DTSTAMP:20260425T181732
CREATED:20210603T065650Z
LAST-MODIFIED:20220604T183018Z
UID:4311-1648374300-1648380600@www.rccgsaskatoon.org
SUMMARY:SUNDAY SECOND SERVICE
DESCRIPTION:
URL:https://www.rccgsaskatoon.org/event/second-service-2022-03-27/
LOCATION:RCCG Jesus House For All Nations\, 601 Eastlake Av\, Saskatoon\, SK\, S7N 1A1\, Canada
CATEGORIES:Main church
ATTACH;FMTTYPE=image/jpeg:/wp-content/uploads/2022/05/Jesus-House101.jpg
END:VEVENT
BEGIN:VEVENT
DTSTART;TZID=America/Regina:20220330T190000
DTEND;TZID=America/Regina:20220330T203000
DTSTAMP:20260425T181732
CREATED:20201025T160145Z
LAST-MODIFIED:20201027T092616Z
UID:2392-1648666800-1648672200@www.rccgsaskatoon.org
SUMMARY:WEEKLY BIBLE STUDY (DIGGING DEEP)
DESCRIPTION:
URL:https://www.rccgsaskatoon.org/event/weekly-bible-study-digging-deep-2022-03-30/
LOCATION:RCCG Jesus House For All Nations\, 601 Eastlake Av\, Saskatoon\, SK\, S7N 1A1\, Canada
CATEGORIES:Chosen-Generation,Main church
ATTACH;FMTTYPE=image/jpeg:/wp-content/uploads/2020/04/Sunday-School.jpg
END:VEVENT
END:VCALENDAR