BEGIN:VCALENDAR
VERSION:2.0
PRODID:-//RCCG Saskatoon - ECPv6.15.11//NONSGML v1.0//EN
CALSCALE:GREGORIAN
METHOD:PUBLISH
X-WR-CALNAME:RCCG Saskatoon
X-ORIGINAL-URL:https://www.rccgsaskatoon.org
X-WR-CALDESC:Events for RCCG Saskatoon
REFRESH-INTERVAL;VALUE=DURATION:PT1H
X-Robots-Tag:noindex
X-PUBLISHED-TTL:PT1H
BEGIN:VTIMEZONE
TZID:America/Regina
BEGIN:STANDARD
TZOFFSETFROM:-0600
TZOFFSETTO:-0600
TZNAME:CST
DTSTART:20210101T000000
END:STANDARD
END:VTIMEZONE
BEGIN:VEVENT
DTSTART;TZID=America/Regina:20220501T074500
DTEND;TZID=America/Regina:20220501T094500
DTSTAMP:20260425T154222
CREATED:20201025T160649Z
LAST-MODIFIED:20220604T181136Z
UID:7238-1651391100-1651398300@www.rccgsaskatoon.org
SUMMARY:THANKSGIVING SUNDAY - FIRST SERVICE
DESCRIPTION:
URL:https://www.rccgsaskatoon.org/event/joint-thanksgiving-service-2-2022-05-01/
LOCATION:RCCG Jesus House For All Nations\, 601 Eastlake Av\, Saskatoon\, SK\, S7N 1A1\, Canada
CATEGORIES:Main church
ATTACH;FMTTYPE=image/jpeg:/wp-content/uploads/2022/05/Jesus-House104.jpg
END:VEVENT
BEGIN:VEVENT
DTSTART;TZID=America/Regina:20220501T100000
DTEND;TZID=America/Regina:20220501T120000
DTSTAMP:20260425T154222
CREATED:20220306T160248Z
LAST-MODIFIED:20220604T180939Z
UID:7325-1651399200-1651406400@www.rccgsaskatoon.org
SUMMARY:THANKSGIVING SUNDAY - SECOND SERVICE
DESCRIPTION:
URL:https://www.rccgsaskatoon.org/event/thanksgiving-sunday-second-service-2022-05-01/
LOCATION:RCCG Jesus House For All Nations\, 601 Eastlake Av\, Saskatoon\, SK\, S7N 1A1\, Canada
CATEGORIES:Main church
ATTACH;FMTTYPE=image/jpeg:/wp-content/uploads/2022/05/Jesus-House103.jpg
END:VEVENT
BEGIN:VEVENT
DTSTART;TZID=America/Regina:20220504T190000
DTEND;TZID=America/Regina:20220504T203000
DTSTAMP:20260425T154222
CREATED:20201025T160145Z
LAST-MODIFIED:20201027T092619Z
UID:2397-1651690800-1651696200@www.rccgsaskatoon.org
SUMMARY:WEEKLY BIBLE STUDY (DIGGING DEEP)
DESCRIPTION:
URL:https://www.rccgsaskatoon.org/event/weekly-bible-study-digging-deep-2022-05-04/
LOCATION:RCCG Jesus House For All Nations\, 601 Eastlake Av\, Saskatoon\, SK\, S7N 1A1\, Canada
CATEGORIES:Chosen-Generation,Main church
ATTACH;FMTTYPE=image/jpeg:/wp-content/uploads/2020/04/Sunday-School.jpg
END:VEVENT
BEGIN:VEVENT
DTSTART;TZID=America/Regina:20220508T074500
DTEND;TZID=America/Regina:20220508T093000
DTSTAMP:20260425T154222
CREATED:20210603T071505Z
LAST-MODIFIED:20220604T191715Z
UID:4960-1651995900-1652002200@www.rccgsaskatoon.org
SUMMARY:SUNDAY FIRST SERVICE
DESCRIPTION:Every 2nd to Last Sunday of the Month | 7:45am – 9:30am
URL:https://www.rccgsaskatoon.org/event/first-service-2-2022-05-08/
LOCATION:RCCG Jesus House For All Nations\, 601 Eastlake Av\, Saskatoon\, SK\, S7N 1A1\, Canada
CATEGORIES:Main church
ATTACH;FMTTYPE=image/jpeg:/wp-content/uploads/2020/04/67099006_3611242995582646_2014237995653136384_o.jpg
END:VEVENT
BEGIN:VEVENT
DTSTART;TZID=America/Regina:20220508T094500
DTEND;TZID=America/Regina:20220508T113000
DTSTAMP:20260425T154222
CREATED:20210603T065650Z
LAST-MODIFIED:20220604T183019Z
UID:4315-1652003100-1652009400@www.rccgsaskatoon.org
SUMMARY:SUNDAY SECOND SERVICE
DESCRIPTION:
URL:https://www.rccgsaskatoon.org/event/second-service-2022-05-08/
LOCATION:RCCG Jesus House For All Nations\, 601 Eastlake Av\, Saskatoon\, SK\, S7N 1A1\, Canada
CATEGORIES:Main church
ATTACH;FMTTYPE=image/jpeg:/wp-content/uploads/2022/05/Jesus-House101.jpg
END:VEVENT
BEGIN:VEVENT
DTSTART;TZID=America/Regina:20220511T190000
DTEND;TZID=America/Regina:20220511T203000
DTSTAMP:20260425T154222
CREATED:20201025T160145Z
LAST-MODIFIED:20201027T092619Z
UID:2398-1652295600-1652301000@www.rccgsaskatoon.org
SUMMARY:WEEKLY BIBLE STUDY (DIGGING DEEP)
DESCRIPTION:
URL:https://www.rccgsaskatoon.org/event/weekly-bible-study-digging-deep-2022-05-11/
LOCATION:RCCG Jesus House For All Nations\, 601 Eastlake Av\, Saskatoon\, SK\, S7N 1A1\, Canada
CATEGORIES:Chosen-Generation,Main church
ATTACH;FMTTYPE=image/jpeg:/wp-content/uploads/2020/04/Sunday-School.jpg
END:VEVENT
BEGIN:VEVENT
DTSTART;TZID=America/Regina:20220515T074500
DTEND;TZID=America/Regina:20220515T093000
DTSTAMP:20260425T154222
CREATED:20210603T071505Z
LAST-MODIFIED:20220604T191715Z
UID:4961-1652600700-1652607000@www.rccgsaskatoon.org
SUMMARY:SUNDAY FIRST SERVICE
DESCRIPTION:Every 2nd to Last Sunday of the Month | 7:45am – 9:30am
URL:https://www.rccgsaskatoon.org/event/first-service-2-2022-05-15/
LOCATION:RCCG Jesus House For All Nations\, 601 Eastlake Av\, Saskatoon\, SK\, S7N 1A1\, Canada
CATEGORIES:Main church
ATTACH;FMTTYPE=image/jpeg:/wp-content/uploads/2020/04/67099006_3611242995582646_2014237995653136384_o.jpg
END:VEVENT
BEGIN:VEVENT
DTSTART;TZID=America/Regina:20220515T094500
DTEND;TZID=America/Regina:20220515T113000
DTSTAMP:20260425T154222
CREATED:20210603T065650Z
LAST-MODIFIED:20220604T183019Z
UID:4316-1652607900-1652614200@www.rccgsaskatoon.org
SUMMARY:SUNDAY SECOND SERVICE
DESCRIPTION:
URL:https://www.rccgsaskatoon.org/event/second-service-2022-05-15/
LOCATION:RCCG Jesus House For All Nations\, 601 Eastlake Av\, Saskatoon\, SK\, S7N 1A1\, Canada
CATEGORIES:Main church
ATTACH;FMTTYPE=image/jpeg:/wp-content/uploads/2022/05/Jesus-House101.jpg
END:VEVENT
BEGIN:VEVENT
DTSTART;TZID=America/Regina:20220518T190000
DTEND;TZID=America/Regina:20220518T203000
DTSTAMP:20260425T154222
CREATED:20201025T160145Z
LAST-MODIFIED:20201027T092619Z
UID:2399-1652900400-1652905800@www.rccgsaskatoon.org
SUMMARY:WEEKLY BIBLE STUDY (DIGGING DEEP)
DESCRIPTION:
URL:https://www.rccgsaskatoon.org/event/weekly-bible-study-digging-deep-2022-05-18/
LOCATION:RCCG Jesus House For All Nations\, 601 Eastlake Av\, Saskatoon\, SK\, S7N 1A1\, Canada
CATEGORIES:Chosen-Generation,Main church
ATTACH;FMTTYPE=image/jpeg:/wp-content/uploads/2020/04/Sunday-School.jpg
END:VEVENT
BEGIN:VEVENT
DTSTART;TZID=America/Regina:20220521T063000
DTEND;TZID=America/Regina:20220521T063000
DTSTAMP:20260425T154222
CREATED:20201027T084347Z
LAST-MODIFIED:20220604T184508Z
UID:3035-1653114600-1653114600@www.rccgsaskatoon.org
SUMMARY:JOYFUL EXPECTATION PRAYER FORUM
DESCRIPTION:3rd Saturday of each month @ 6:30am via teleconference on (306) 801-6377
URL:https://www.rccgsaskatoon.org/event/joyful-expectation-prayer-forum-2022-05-21/
CATEGORIES:Main church
ATTACH;FMTTYPE=image/jpeg:/wp-content/uploads/2020/10/Expected-Mum.jpg
END:VEVENT
BEGIN:VEVENT
DTSTART;TZID=America/Regina:20220522T074500
DTEND;TZID=America/Regina:20220522T093000
DTSTAMP:20260425T154222
CREATED:20210603T071505Z
LAST-MODIFIED:20220604T191715Z
UID:4962-1653205500-1653211800@www.rccgsaskatoon.org
SUMMARY:SUNDAY FIRST SERVICE
DESCRIPTION:Every 2nd to Last Sunday of the Month | 7:45am – 9:30am
URL:https://www.rccgsaskatoon.org/event/first-service-2-2022-05-22/
LOCATION:RCCG Jesus House For All Nations\, 601 Eastlake Av\, Saskatoon\, SK\, S7N 1A1\, Canada
CATEGORIES:Main church
ATTACH;FMTTYPE=image/jpeg:/wp-content/uploads/2020/04/67099006_3611242995582646_2014237995653136384_o.jpg
END:VEVENT
BEGIN:VEVENT
DTSTART;TZID=America/Regina:20220522T094500
DTEND;TZID=America/Regina:20220522T113000
DTSTAMP:20260425T154222
CREATED:20210603T065650Z
LAST-MODIFIED:20220604T183019Z
UID:4317-1653212700-1653219000@www.rccgsaskatoon.org
SUMMARY:SUNDAY SECOND SERVICE
DESCRIPTION:
URL:https://www.rccgsaskatoon.org/event/second-service-2022-05-22/
LOCATION:RCCG Jesus House For All Nations\, 601 Eastlake Av\, Saskatoon\, SK\, S7N 1A1\, Canada
CATEGORIES:Main church
ATTACH;FMTTYPE=image/jpeg:/wp-content/uploads/2022/05/Jesus-House101.jpg
END:VEVENT
BEGIN:VEVENT
DTSTART;TZID=America/Regina:20220525T190000
DTEND;TZID=America/Regina:20220525T203000
DTSTAMP:20260425T154222
CREATED:20201025T160145Z
LAST-MODIFIED:20201027T092619Z
UID:2400-1653505200-1653510600@www.rccgsaskatoon.org
SUMMARY:WEEKLY BIBLE STUDY (DIGGING DEEP)
DESCRIPTION:
URL:https://www.rccgsaskatoon.org/event/weekly-bible-study-digging-deep-2022-05-25/
LOCATION:RCCG Jesus House For All Nations\, 601 Eastlake Av\, Saskatoon\, SK\, S7N 1A1\, Canada
CATEGORIES:Chosen-Generation,Main church
ATTACH;FMTTYPE=image/jpeg:/wp-content/uploads/2020/04/Sunday-School.jpg
END:VEVENT
BEGIN:VEVENT
DTSTART;TZID=America/Regina:20220527T220000
DTEND;TZID=America/Regina:20220527T220000
DTSTAMP:20260425T154222
CREATED:20201025T160145Z
LAST-MODIFIED:20220604T183549Z
UID:2989-1653688800-1653688800@www.rccgsaskatoon.org
SUMMARY:HOLY GHOST SERVICE (VIGIL)
DESCRIPTION:1st Friday of every month – Pastors’ Vigil/Prayer Altar (12 midnight – 3:00am) \n2nd Friday of every month – Choir Vigil (9:00pm – 12 midnight) \n3rd Friday of every month – Prayer Teams Vigil (12 midnight – 4:00am) \nLast Friday of every month – Church Holy Ghost Service (10:00pm – 1:00am)
URL:https://www.rccgsaskatoon.org/event/vigil-2022-05-27/
LOCATION:RCCG Jesus House For All Nations\, 601 Eastlake Av\, Saskatoon\, SK\, S7N 1A1\, Canada
CATEGORIES:Chosen-Generation,Main church
ATTACH;FMTTYPE=image/jpeg:/wp-content/uploads/2020/04/Prayer-group.jpg
END:VEVENT
BEGIN:VEVENT
DTSTART;TZID=America/Regina:20220529T074500
DTEND;TZID=America/Regina:20220529T093000
DTSTAMP:20260425T154222
CREATED:20210603T071505Z
LAST-MODIFIED:20220604T191716Z
UID:4963-1653810300-1653816600@www.rccgsaskatoon.org
SUMMARY:SUNDAY FIRST SERVICE
DESCRIPTION:Every 2nd to Last Sunday of the Month | 7:45am – 9:30am
URL:https://www.rccgsaskatoon.org/event/first-service-2-2022-05-29/
LOCATION:RCCG Jesus House For All Nations\, 601 Eastlake Av\, Saskatoon\, SK\, S7N 1A1\, Canada
CATEGORIES:Main church
ATTACH;FMTTYPE=image/jpeg:/wp-content/uploads/2020/04/67099006_3611242995582646_2014237995653136384_o.jpg
END:VEVENT
BEGIN:VEVENT
DTSTART;TZID=America/Regina:20220529T094500
DTEND;TZID=America/Regina:20220529T113000
DTSTAMP:20260425T154222
CREATED:20210603T065650Z
LAST-MODIFIED:20220604T183019Z
UID:4318-1653817500-1653823800@www.rccgsaskatoon.org
SUMMARY:SUNDAY SECOND SERVICE
DESCRIPTION:
URL:https://www.rccgsaskatoon.org/event/second-service-2022-05-29/
LOCATION:RCCG Jesus House For All Nations\, 601 Eastlake Av\, Saskatoon\, SK\, S7N 1A1\, Canada
CATEGORIES:Main church
ATTACH;FMTTYPE=image/jpeg:/wp-content/uploads/2022/05/Jesus-House101.jpg
END:VEVENT
END:VCALENDAR