BEGIN:VCALENDAR
VERSION:2.0
PRODID:-//RCCG Saskatoon - ECPv6.15.11//NONSGML v1.0//EN
CALSCALE:GREGORIAN
METHOD:PUBLISH
X-ORIGINAL-URL:https://www.rccgsaskatoon.org
X-WR-CALDESC:Events for RCCG Saskatoon
REFRESH-INTERVAL;VALUE=DURATION:PT1H
X-Robots-Tag:noindex
X-PUBLISHED-TTL:PT1H
BEGIN:VTIMEZONE
TZID:America/Regina
BEGIN:STANDARD
TZOFFSETFROM:-0600
TZOFFSETTO:-0600
TZNAME:CST
DTSTART:20210101T000000
END:STANDARD
END:VTIMEZONE
BEGIN:VEVENT
DTSTART;VALUE=DATE:20220802
DTEND;VALUE=DATE:20220806
DTSTAMP:20260425T112322
CREATED:20220604T185719Z
LAST-MODIFIED:20220604T190258Z
UID:9718-1659398400-1659743999@www.rccgsaskatoon.org
SUMMARY:GOD'S HERITAGE SUMMER CAMP 2022
DESCRIPTION:
URL:https://www.rccgsaskatoon.org/event/gods-heritage-summer-camp-2022/
LOCATION:RCCG Jesus House For All Nations\, 601 Eastlake Av\, Saskatoon\, SK\, S7N 1A1\, Canada
CATEGORIES:God's Heritage
ATTACH;FMTTYPE=image/png:/wp-content/uploads/2022/06/Summer-Camp.png
END:VEVENT
BEGIN:VEVENT
DTSTART;TZID=America/Regina:20220803T190000
DTEND;TZID=America/Regina:20220803T203000
DTSTAMP:20260425T112322
CREATED:20201025T160145Z
LAST-MODIFIED:20201027T092622Z
UID:2410-1659553200-1659558600@www.rccgsaskatoon.org
SUMMARY:WEEKLY BIBLE STUDY (DIGGING DEEP)
DESCRIPTION:
URL:https://www.rccgsaskatoon.org/event/weekly-bible-study-digging-deep-2022-08-03/
LOCATION:RCCG Jesus House For All Nations\, 601 Eastlake Av\, Saskatoon\, SK\, S7N 1A1\, Canada
CATEGORIES:Chosen-Generation,Main church
ATTACH;FMTTYPE=image/jpeg:/wp-content/uploads/2020/04/Sunday-School.jpg
END:VEVENT
BEGIN:VEVENT
DTSTART;TZID=America/Regina:20220807T074500
DTEND;TZID=America/Regina:20220807T094500
DTSTAMP:20260425T112322
CREATED:20201025T160649Z
LAST-MODIFIED:20220604T181038Z
UID:7241-1659858300-1659865500@www.rccgsaskatoon.org
SUMMARY:THANKSGIVING SUNDAY - FIRST SERVICE
DESCRIPTION:
URL:https://www.rccgsaskatoon.org/event/joint-thanksgiving-service-2-2022-08-07/
LOCATION:RCCG Jesus House For All Nations\, 601 Eastlake Av\, Saskatoon\, SK\, S7N 1A1\, Canada
CATEGORIES:Main church
ATTACH;FMTTYPE=image/jpeg:/wp-content/uploads/2022/05/Jesus-House104.jpg
END:VEVENT
BEGIN:VEVENT
DTSTART;TZID=America/Regina:20220807T100000
DTEND;TZID=America/Regina:20220807T120000
DTSTAMP:20260425T112322
CREATED:20220306T160248Z
LAST-MODIFIED:20220604T180940Z
UID:7328-1659866400-1659873600@www.rccgsaskatoon.org
SUMMARY:THANKSGIVING SUNDAY - SECOND SERVICE
DESCRIPTION:
URL:https://www.rccgsaskatoon.org/event/thanksgiving-sunday-second-service-2022-08-07/
LOCATION:RCCG Jesus House For All Nations\, 601 Eastlake Av\, Saskatoon\, SK\, S7N 1A1\, Canada
CATEGORIES:Main church
ATTACH;FMTTYPE=image/jpeg:/wp-content/uploads/2022/05/Jesus-House103.jpg
END:VEVENT
BEGIN:VEVENT
DTSTART;TZID=America/Regina:20220810T190000
DTEND;TZID=America/Regina:20220810T203000
DTSTAMP:20260425T112323
CREATED:20201025T160145Z
LAST-MODIFIED:20201027T092623Z
UID:2411-1660158000-1660163400@www.rccgsaskatoon.org
SUMMARY:WEEKLY BIBLE STUDY (DIGGING DEEP)
DESCRIPTION:
URL:https://www.rccgsaskatoon.org/event/weekly-bible-study-digging-deep-2022-08-10/
LOCATION:RCCG Jesus House For All Nations\, 601 Eastlake Av\, Saskatoon\, SK\, S7N 1A1\, Canada
CATEGORIES:Chosen-Generation,Main church
ATTACH;FMTTYPE=image/jpeg:/wp-content/uploads/2020/04/Sunday-School.jpg
END:VEVENT
BEGIN:VEVENT
DTSTART;TZID=America/Regina:20220814T074500
DTEND;TZID=America/Regina:20220814T093000
DTSTAMP:20260425T112323
CREATED:20210603T071505Z
LAST-MODIFIED:20220604T191719Z
UID:4971-1660463100-1660469400@www.rccgsaskatoon.org
SUMMARY:SUNDAY FIRST SERVICE
DESCRIPTION:Every 2nd to Last Sunday of the Month | 7:45am – 9:30am
URL:https://www.rccgsaskatoon.org/event/first-service-2-2022-08-14/
LOCATION:RCCG Jesus House For All Nations\, 601 Eastlake Av\, Saskatoon\, SK\, S7N 1A1\, Canada
CATEGORIES:Main church
ATTACH;FMTTYPE=image/jpeg:/wp-content/uploads/2020/04/67099006_3611242995582646_2014237995653136384_o.jpg
END:VEVENT
BEGIN:VEVENT
DTSTART;TZID=America/Regina:20220814T094500
DTEND;TZID=America/Regina:20220814T113000
DTSTAMP:20260425T112323
CREATED:20210603T065650Z
LAST-MODIFIED:20220604T183033Z
UID:4335-1660470300-1660476600@www.rccgsaskatoon.org
SUMMARY:SUNDAY SECOND SERVICE
DESCRIPTION:
URL:https://www.rccgsaskatoon.org/event/second-service-2022-08-14/
LOCATION:RCCG Jesus House For All Nations\, 601 Eastlake Av\, Saskatoon\, SK\, S7N 1A1\, Canada
CATEGORIES:Main church
ATTACH;FMTTYPE=image/jpeg:/wp-content/uploads/2022/05/Jesus-House101.jpg
END:VEVENT
BEGIN:VEVENT
DTSTART;TZID=America/Regina:20220817T190000
DTEND;TZID=America/Regina:20220817T203000
DTSTAMP:20260425T112323
CREATED:20201025T160145Z
LAST-MODIFIED:20201027T092623Z
UID:2412-1660762800-1660768200@www.rccgsaskatoon.org
SUMMARY:WEEKLY BIBLE STUDY (DIGGING DEEP)
DESCRIPTION:
URL:https://www.rccgsaskatoon.org/event/weekly-bible-study-digging-deep-2022-08-17/
LOCATION:RCCG Jesus House For All Nations\, 601 Eastlake Av\, Saskatoon\, SK\, S7N 1A1\, Canada
CATEGORIES:Chosen-Generation,Main church
ATTACH;FMTTYPE=image/jpeg:/wp-content/uploads/2020/04/Sunday-School.jpg
END:VEVENT
BEGIN:VEVENT
DTSTART;TZID=America/Regina:20220820T063000
DTEND;TZID=America/Regina:20220820T063000
DTSTAMP:20260425T112323
CREATED:20201027T084347Z
LAST-MODIFIED:20220604T184509Z
UID:3038-1660977000-1660977000@www.rccgsaskatoon.org
SUMMARY:JOYFUL EXPECTATION PRAYER FORUM
DESCRIPTION:3rd Saturday of each month @ 6:30am via teleconference on (306) 801-6377
URL:https://www.rccgsaskatoon.org/event/joyful-expectation-prayer-forum-2022-08-20/
CATEGORIES:Main church
ATTACH;FMTTYPE=image/jpeg:/wp-content/uploads/2020/10/Expected-Mum.jpg
END:VEVENT
BEGIN:VEVENT
DTSTART;TZID=America/Regina:20220821T074500
DTEND;TZID=America/Regina:20220821T093000
DTSTAMP:20260425T112323
CREATED:20210603T071505Z
LAST-MODIFIED:20220604T191720Z
UID:4972-1661067900-1661074200@www.rccgsaskatoon.org
SUMMARY:SUNDAY FIRST SERVICE
DESCRIPTION:Every 2nd to Last Sunday of the Month | 7:45am – 9:30am
URL:https://www.rccgsaskatoon.org/event/first-service-2-2022-08-21/
LOCATION:RCCG Jesus House For All Nations\, 601 Eastlake Av\, Saskatoon\, SK\, S7N 1A1\, Canada
CATEGORIES:Main church
ATTACH;FMTTYPE=image/jpeg:/wp-content/uploads/2020/04/67099006_3611242995582646_2014237995653136384_o.jpg
END:VEVENT
BEGIN:VEVENT
DTSTART;TZID=America/Regina:20220821T094500
DTEND;TZID=America/Regina:20220821T113000
DTSTAMP:20260425T112323
CREATED:20210603T065650Z
LAST-MODIFIED:20220604T183035Z
UID:4337-1661075100-1661081400@www.rccgsaskatoon.org
SUMMARY:SUNDAY SECOND SERVICE
DESCRIPTION:
URL:https://www.rccgsaskatoon.org/event/second-service-2022-08-21/
LOCATION:RCCG Jesus House For All Nations\, 601 Eastlake Av\, Saskatoon\, SK\, S7N 1A1\, Canada
CATEGORIES:Main church
ATTACH;FMTTYPE=image/jpeg:/wp-content/uploads/2022/05/Jesus-House101.jpg
END:VEVENT
BEGIN:VEVENT
DTSTART;TZID=America/Regina:20220824T190000
DTEND;TZID=America/Regina:20220824T203000
DTSTAMP:20260425T112323
CREATED:20201025T160145Z
LAST-MODIFIED:20201027T092623Z
UID:2413-1661367600-1661373000@www.rccgsaskatoon.org
SUMMARY:WEEKLY BIBLE STUDY (DIGGING DEEP)
DESCRIPTION:
URL:https://www.rccgsaskatoon.org/event/weekly-bible-study-digging-deep-2022-08-24/
LOCATION:RCCG Jesus House For All Nations\, 601 Eastlake Av\, Saskatoon\, SK\, S7N 1A1\, Canada
CATEGORIES:Chosen-Generation,Main church
ATTACH;FMTTYPE=image/jpeg:/wp-content/uploads/2020/04/Sunday-School.jpg
END:VEVENT
BEGIN:VEVENT
DTSTART;TZID=America/Regina:20220826T220000
DTEND;TZID=America/Regina:20220826T220000
DTSTAMP:20260425T112323
CREATED:20201025T160145Z
LAST-MODIFIED:20220604T183550Z
UID:2992-1661551200-1661551200@www.rccgsaskatoon.org
SUMMARY:HOLY GHOST SERVICE (VIGIL)
DESCRIPTION:1st Friday of every month – Pastors’ Vigil/Prayer Altar (12 midnight – 3:00am) \n2nd Friday of every month – Choir Vigil (9:00pm – 12 midnight) \n3rd Friday of every month – Prayer Teams Vigil (12 midnight – 4:00am) \nLast Friday of every month – Church Holy Ghost Service (10:00pm – 1:00am)
URL:https://www.rccgsaskatoon.org/event/vigil-2022-08-26/
LOCATION:RCCG Jesus House For All Nations\, 601 Eastlake Av\, Saskatoon\, SK\, S7N 1A1\, Canada
CATEGORIES:Chosen-Generation,Main church
ATTACH;FMTTYPE=image/jpeg:/wp-content/uploads/2020/04/Prayer-group.jpg
END:VEVENT
BEGIN:VEVENT
DTSTART;TZID=America/Regina:20220827T120000
DTEND;TZID=America/Regina:20220827T180000
DTSTAMP:20260425T112323
CREATED:20220604T190605Z
LAST-MODIFIED:20220604T190605Z
UID:9727-1661601600-1661623200@www.rccgsaskatoon.org
SUMMARY:ARISE CONFERENCE 2022
DESCRIPTION:
URL:https://www.rccgsaskatoon.org/event/arise-conference-2022/
LOCATION:RCCG Jesus House For All Nations\, 601 Eastlake Av\, Saskatoon\, SK\, S7N 1A1\, Canada
CATEGORIES:Main church
ATTACH;FMTTYPE=image/jpeg:/wp-content/uploads/2022/06/Arise-Conference-2022.jpg
END:VEVENT
BEGIN:VEVENT
DTSTART;TZID=America/Regina:20220828T074500
DTEND;TZID=America/Regina:20220828T093000
DTSTAMP:20260425T112323
CREATED:20210603T071505Z
LAST-MODIFIED:20220604T191720Z
UID:4973-1661672700-1661679000@www.rccgsaskatoon.org
SUMMARY:SUNDAY FIRST SERVICE
DESCRIPTION:Every 2nd to Last Sunday of the Month | 7:45am – 9:30am
URL:https://www.rccgsaskatoon.org/event/first-service-2-2022-08-28/
LOCATION:RCCG Jesus House For All Nations\, 601 Eastlake Av\, Saskatoon\, SK\, S7N 1A1\, Canada
CATEGORIES:Main church
ATTACH;FMTTYPE=image/jpeg:/wp-content/uploads/2020/04/67099006_3611242995582646_2014237995653136384_o.jpg
END:VEVENT
BEGIN:VEVENT
DTSTART;TZID=America/Regina:20220828T094500
DTEND;TZID=America/Regina:20220828T113000
DTSTAMP:20260425T112323
CREATED:20210603T065650Z
LAST-MODIFIED:20220604T183035Z
UID:4338-1661679900-1661686200@www.rccgsaskatoon.org
SUMMARY:SUNDAY SECOND SERVICE
DESCRIPTION:
URL:https://www.rccgsaskatoon.org/event/second-service-2022-08-28/
LOCATION:RCCG Jesus House For All Nations\, 601 Eastlake Av\, Saskatoon\, SK\, S7N 1A1\, Canada
CATEGORIES:Main church
ATTACH;FMTTYPE=image/jpeg:/wp-content/uploads/2022/05/Jesus-House101.jpg
END:VEVENT
BEGIN:VEVENT
DTSTART;TZID=America/Regina:20220831T190000
DTEND;TZID=America/Regina:20220831T203000
DTSTAMP:20260425T112323
CREATED:20201025T160145Z
LAST-MODIFIED:20201027T092623Z
UID:2414-1661972400-1661977800@www.rccgsaskatoon.org
SUMMARY:WEEKLY BIBLE STUDY (DIGGING DEEP)
DESCRIPTION:
URL:https://www.rccgsaskatoon.org/event/weekly-bible-study-digging-deep-2022-08-31/
LOCATION:RCCG Jesus House For All Nations\, 601 Eastlake Av\, Saskatoon\, SK\, S7N 1A1\, Canada
CATEGORIES:Chosen-Generation,Main church
ATTACH;FMTTYPE=image/jpeg:/wp-content/uploads/2020/04/Sunday-School.jpg
END:VEVENT
END:VCALENDAR