BEGIN:VCALENDAR
VERSION:2.0
PRODID:-//RCCG Saskatoon - ECPv6.15.11//NONSGML v1.0//EN
CALSCALE:GREGORIAN
METHOD:PUBLISH
X-WR-CALNAME:RCCG Saskatoon
X-ORIGINAL-URL:https://www.rccgsaskatoon.org
X-WR-CALDESC:Events for RCCG Saskatoon
REFRESH-INTERVAL;VALUE=DURATION:PT1H
X-Robots-Tag:noindex
X-PUBLISHED-TTL:PT1H
BEGIN:VTIMEZONE
TZID:America/Regina
BEGIN:STANDARD
TZOFFSETFROM:-0600
TZOFFSETTO:-0600
TZNAME:CST
DTSTART:20220101T000000
END:STANDARD
END:VTIMEZONE
BEGIN:VEVENT
DTSTART;TZID=America/Regina:20230903T074500
DTEND;TZID=America/Regina:20230903T094500
DTSTAMP:20260424T172224
CREATED:20201025T160649Z
LAST-MODIFIED:20220604T181047Z
UID:7254-1693727100-1693734300@www.rccgsaskatoon.org
SUMMARY:THANKSGIVING SUNDAY - FIRST SERVICE
DESCRIPTION:
URL:https://www.rccgsaskatoon.org/event/joint-thanksgiving-service-2-2023-09-03/
LOCATION:RCCG Jesus House For All Nations\, 601 Eastlake Av\, Saskatoon\, SK\, S7N 1A1\, Canada
CATEGORIES:Main church
ATTACH;FMTTYPE=image/jpeg:/wp-content/uploads/2022/05/Jesus-House104.jpg
END:VEVENT
BEGIN:VEVENT
DTSTART;TZID=America/Regina:20230903T100000
DTEND;TZID=America/Regina:20230903T120000
DTSTAMP:20260424T172224
CREATED:20220306T160248Z
LAST-MODIFIED:20220604T181005Z
UID:7341-1693735200-1693742400@www.rccgsaskatoon.org
SUMMARY:THANKSGIVING SUNDAY - SECOND SERVICE
DESCRIPTION:
URL:https://www.rccgsaskatoon.org/event/thanksgiving-sunday-second-service-2023-09-03/
LOCATION:RCCG Jesus House For All Nations\, 601 Eastlake Av\, Saskatoon\, SK\, S7N 1A1\, Canada
CATEGORIES:Main church
ATTACH;FMTTYPE=image/jpeg:/wp-content/uploads/2022/05/Jesus-House103.jpg
END:VEVENT
BEGIN:VEVENT
DTSTART;TZID=America/Regina:20230906T190000
DTEND;TZID=America/Regina:20230906T203000
DTSTAMP:20260424T172224
CREATED:20201025T160145Z
LAST-MODIFIED:20201025T160145Z
UID:6376-1694026800-1694032200@www.rccgsaskatoon.org
SUMMARY:WEEKLY BIBLE STUDY (DIGGING DEEP)
DESCRIPTION:
URL:https://www.rccgsaskatoon.org/event/weekly-bible-study-digging-deep-2023-09-06/
LOCATION:RCCG Jesus House For All Nations\, 601 Eastlake Av\, Saskatoon\, SK\, S7N 1A1\, Canada
CATEGORIES:Chosen-Generation,Main church
ATTACH;FMTTYPE=image/jpeg:/wp-content/uploads/2020/04/Sunday-School.jpg
END:VEVENT
BEGIN:VEVENT
DTSTART;TZID=America/Regina:20230910T074500
DTEND;TZID=America/Regina:20230910T093000
DTSTAMP:20260424T172224
CREATED:20210603T071505Z
LAST-MODIFIED:20210603T071505Z
UID:6422-1694331900-1694338200@www.rccgsaskatoon.org
SUMMARY:FIRST SERVICE
DESCRIPTION:
URL:https://www.rccgsaskatoon.org/event/first-service-2-2023-09-10/
LOCATION:RCCG Jesus House For All Nations\, 601 Eastlake Av\, Saskatoon\, SK\, S7N 1A1\, Canada
CATEGORIES:Main church
ATTACH;FMTTYPE=image/jpeg:/wp-content/uploads/2020/04/67099006_3611242995582646_2014237995653136384_o.jpg
END:VEVENT
BEGIN:VEVENT
DTSTART;TZID=America/Regina:20230910T094500
DTEND;TZID=America/Regina:20230910T113000
DTSTAMP:20260424T172224
CREATED:20210603T065650Z
LAST-MODIFIED:20210603T065650Z
UID:6423-1694339100-1694345400@www.rccgsaskatoon.org
SUMMARY:SECOND SERVICE
DESCRIPTION:
URL:https://www.rccgsaskatoon.org/event/second-service-2023-09-10/
LOCATION:RCCG Jesus House For All Nations\, 601 Eastlake Av\, Saskatoon\, SK\, S7N 1A1\, Canada
CATEGORIES:Main church
ATTACH;FMTTYPE=image/jpeg:/wp-content/uploads/2022/05/Jesus-House101.jpg
END:VEVENT
BEGIN:VEVENT
DTSTART;TZID=America/Regina:20230913T190000
DTEND;TZID=America/Regina:20230913T203000
DTSTAMP:20260424T172224
CREATED:20201025T160145Z
LAST-MODIFIED:20201025T160145Z
UID:6428-1694631600-1694637000@www.rccgsaskatoon.org
SUMMARY:WEEKLY BIBLE STUDY (DIGGING DEEP)
DESCRIPTION:
URL:https://www.rccgsaskatoon.org/event/weekly-bible-study-digging-deep-2023-09-13/
LOCATION:RCCG Jesus House For All Nations\, 601 Eastlake Av\, Saskatoon\, SK\, S7N 1A1\, Canada
CATEGORIES:Chosen-Generation,Main church
ATTACH;FMTTYPE=image/jpeg:/wp-content/uploads/2020/04/Sunday-School.jpg
END:VEVENT
BEGIN:VEVENT
DTSTART;TZID=America/Regina:20230916T063000
DTEND;TZID=America/Regina:20230916T063000
DTSTAMP:20260424T172224
CREATED:20201027T084347Z
LAST-MODIFIED:20220604T184518Z
UID:6452-1694845800-1694845800@www.rccgsaskatoon.org
SUMMARY:JOYFUL EXPECTATION PRAYER FORUM
DESCRIPTION:3rd Saturday of each month @ 6:30am via teleconference on (306) 801-6377
URL:https://www.rccgsaskatoon.org/event/joyful-expectation-prayer-forum-2023-09-16/
CATEGORIES:Main church
ATTACH;FMTTYPE=image/jpeg:/wp-content/uploads/2020/10/Expected-Mum.jpg
END:VEVENT
BEGIN:VEVENT
DTSTART;TZID=America/Regina:20230917T074500
DTEND;TZID=America/Regina:20230917T093000
DTSTAMP:20260424T172224
CREATED:20210603T071505Z
LAST-MODIFIED:20210603T071505Z
UID:6456-1694936700-1694943000@www.rccgsaskatoon.org
SUMMARY:FIRST SERVICE
DESCRIPTION:
URL:https://www.rccgsaskatoon.org/event/first-service-2-2023-09-17/
LOCATION:RCCG Jesus House For All Nations\, 601 Eastlake Av\, Saskatoon\, SK\, S7N 1A1\, Canada
CATEGORIES:Main church
ATTACH;FMTTYPE=image/jpeg:/wp-content/uploads/2020/04/67099006_3611242995582646_2014237995653136384_o.jpg
END:VEVENT
BEGIN:VEVENT
DTSTART;TZID=America/Regina:20230917T094500
DTEND;TZID=America/Regina:20230917T113000
DTSTAMP:20260424T172224
CREATED:20210603T065650Z
LAST-MODIFIED:20210603T065650Z
UID:6457-1694943900-1694950200@www.rccgsaskatoon.org
SUMMARY:SECOND SERVICE
DESCRIPTION:
URL:https://www.rccgsaskatoon.org/event/second-service-2023-09-17/
LOCATION:RCCG Jesus House For All Nations\, 601 Eastlake Av\, Saskatoon\, SK\, S7N 1A1\, Canada
CATEGORIES:Main church
ATTACH;FMTTYPE=image/jpeg:/wp-content/uploads/2022/05/Jesus-House101.jpg
END:VEVENT
BEGIN:VEVENT
DTSTART;TZID=America/Regina:20230920T190000
DTEND;TZID=America/Regina:20230920T203000
DTSTAMP:20260424T172224
CREATED:20201025T160145Z
LAST-MODIFIED:20201025T160145Z
UID:6465-1695236400-1695241800@www.rccgsaskatoon.org
SUMMARY:WEEKLY BIBLE STUDY (DIGGING DEEP)
DESCRIPTION:
URL:https://www.rccgsaskatoon.org/event/weekly-bible-study-digging-deep-2023-09-20/
LOCATION:RCCG Jesus House For All Nations\, 601 Eastlake Av\, Saskatoon\, SK\, S7N 1A1\, Canada
CATEGORIES:Chosen-Generation,Main church
ATTACH;FMTTYPE=image/jpeg:/wp-content/uploads/2020/04/Sunday-School.jpg
END:VEVENT
BEGIN:VEVENT
DTSTART;TZID=America/Regina:20230924T074500
DTEND;TZID=America/Regina:20230924T093000
DTSTAMP:20260424T172224
CREATED:20210603T071505Z
LAST-MODIFIED:20210603T071505Z
UID:6469-1695541500-1695547800@www.rccgsaskatoon.org
SUMMARY:FIRST SERVICE
DESCRIPTION:
URL:https://www.rccgsaskatoon.org/event/first-service-2-2023-09-24/
LOCATION:RCCG Jesus House For All Nations\, 601 Eastlake Av\, Saskatoon\, SK\, S7N 1A1\, Canada
CATEGORIES:Main church
ATTACH;FMTTYPE=image/jpeg:/wp-content/uploads/2020/04/67099006_3611242995582646_2014237995653136384_o.jpg
END:VEVENT
BEGIN:VEVENT
DTSTART;TZID=America/Regina:20230924T094500
DTEND;TZID=America/Regina:20230924T113000
DTSTAMP:20260424T172224
CREATED:20210603T065650Z
LAST-MODIFIED:20210603T065650Z
UID:6470-1695548700-1695555000@www.rccgsaskatoon.org
SUMMARY:SECOND SERVICE
DESCRIPTION:
URL:https://www.rccgsaskatoon.org/event/second-service-2023-09-24/
LOCATION:RCCG Jesus House For All Nations\, 601 Eastlake Av\, Saskatoon\, SK\, S7N 1A1\, Canada
CATEGORIES:Main church
ATTACH;FMTTYPE=image/jpeg:/wp-content/uploads/2022/05/Jesus-House101.jpg
END:VEVENT
BEGIN:VEVENT
DTSTART;TZID=America/Regina:20230927T190000
DTEND;TZID=America/Regina:20230927T203000
DTSTAMP:20260424T172224
CREATED:20201025T160145Z
LAST-MODIFIED:20201025T160145Z
UID:6519-1695841200-1695846600@www.rccgsaskatoon.org
SUMMARY:WEEKLY BIBLE STUDY (DIGGING DEEP)
DESCRIPTION:
URL:https://www.rccgsaskatoon.org/event/weekly-bible-study-digging-deep-2023-09-27/
LOCATION:RCCG Jesus House For All Nations\, 601 Eastlake Av\, Saskatoon\, SK\, S7N 1A1\, Canada
CATEGORIES:Chosen-Generation,Main church
ATTACH;FMTTYPE=image/jpeg:/wp-content/uploads/2020/04/Sunday-School.jpg
END:VEVENT
BEGIN:VEVENT
DTSTART;TZID=America/Regina:20230929T220000
DTEND;TZID=America/Regina:20230929T220000
DTSTAMP:20260424T172224
CREATED:20201025T160145Z
LAST-MODIFIED:20220604T183859Z
UID:6645-1696024800-1696024800@www.rccgsaskatoon.org
SUMMARY:HOLY GHOST SERVICE (VIGIL)
DESCRIPTION:1st Friday of every month – Pastors’ Vigil/Prayer Altar (12 midnight – 3:00am) \n2nd Friday of every month – Choir Vigil (9:00pm – 12 midnight) \n3rd Friday of every month – Prayer Teams Vigil (12 midnight – 4:00am) \nLast Friday of every month – Church Holy Ghost Service (10:00pm – 1:00am)
URL:https://www.rccgsaskatoon.org/event/vigil-2023-09-29/
LOCATION:RCCG Jesus House For All Nations\, 601 Eastlake Av\, Saskatoon\, SK\, S7N 1A1\, Canada
CATEGORIES:Chosen-Generation,Main church
ATTACH;FMTTYPE=image/jpeg:/wp-content/uploads/2020/04/Prayer-group.jpg
END:VEVENT
END:VCALENDAR