BEGIN:VCALENDAR
VERSION:2.0
PRODID:-//RCCG Saskatoon - ECPv6.15.11//NONSGML v1.0//EN
CALSCALE:GREGORIAN
METHOD:PUBLISH
X-WR-CALNAME:RCCG Saskatoon
X-ORIGINAL-URL:https://www.rccgsaskatoon.org
X-WR-CALDESC:Events for RCCG Saskatoon
REFRESH-INTERVAL;VALUE=DURATION:PT1H
X-Robots-Tag:noindex
X-PUBLISHED-TTL:PT1H
BEGIN:VTIMEZONE
TZID:America/Regina
BEGIN:STANDARD
TZOFFSETFROM:-0600
TZOFFSETTO:-0600
TZNAME:CST
DTSTART:20220101T000000
END:STANDARD
END:VTIMEZONE
BEGIN:VEVENT
DTSTART;TZID=America/Regina:20231001T074500
DTEND;TZID=America/Regina:20231001T094500
DTSTAMP:20260424T155415
CREATED:20201025T160649Z
LAST-MODIFIED:20220604T181047Z
UID:7255-1696146300-1696153500@www.rccgsaskatoon.org
SUMMARY:THANKSGIVING SUNDAY - FIRST SERVICE
DESCRIPTION:
URL:https://www.rccgsaskatoon.org/event/joint-thanksgiving-service-2-2023-10-01/
LOCATION:RCCG Jesus House For All Nations\, 601 Eastlake Av\, Saskatoon\, SK\, S7N 1A1\, Canada
CATEGORIES:Main church
ATTACH;FMTTYPE=image/jpeg:/wp-content/uploads/2022/05/Jesus-House104.jpg
END:VEVENT
BEGIN:VEVENT
DTSTART;TZID=America/Regina:20231001T100000
DTEND;TZID=America/Regina:20231001T120000
DTSTAMP:20260424T155415
CREATED:20220306T160248Z
LAST-MODIFIED:20220604T181005Z
UID:7342-1696154400-1696161600@www.rccgsaskatoon.org
SUMMARY:THANKSGIVING SUNDAY - SECOND SERVICE
DESCRIPTION:
URL:https://www.rccgsaskatoon.org/event/thanksgiving-sunday-second-service-2023-10-01/
LOCATION:RCCG Jesus House For All Nations\, 601 Eastlake Av\, Saskatoon\, SK\, S7N 1A1\, Canada
CATEGORIES:Main church
ATTACH;FMTTYPE=image/jpeg:/wp-content/uploads/2022/05/Jesus-House103.jpg
END:VEVENT
BEGIN:VEVENT
DTSTART;TZID=America/Regina:20231004T190000
DTEND;TZID=America/Regina:20231004T203000
DTSTAMP:20260424T155415
CREATED:20201025T160145Z
LAST-MODIFIED:20201025T160145Z
UID:6777-1696446000-1696451400@www.rccgsaskatoon.org
SUMMARY:WEEKLY BIBLE STUDY (DIGGING DEEP)
DESCRIPTION:
URL:https://www.rccgsaskatoon.org/event/weekly-bible-study-digging-deep-2023-10-04/
LOCATION:RCCG Jesus House For All Nations\, 601 Eastlake Av\, Saskatoon\, SK\, S7N 1A1\, Canada
CATEGORIES:Chosen-Generation,Main church
ATTACH;FMTTYPE=image/jpeg:/wp-content/uploads/2020/04/Sunday-School.jpg
END:VEVENT
BEGIN:VEVENT
DTSTART;TZID=America/Regina:20231008T074500
DTEND;TZID=America/Regina:20231008T093000
DTSTAMP:20260424T155415
CREATED:20210603T071505Z
LAST-MODIFIED:20210603T071505Z
UID:6798-1696751100-1696757400@www.rccgsaskatoon.org
SUMMARY:FIRST SERVICE
DESCRIPTION:
URL:https://www.rccgsaskatoon.org/event/first-service-2-2023-10-08/
LOCATION:RCCG Jesus House For All Nations\, 601 Eastlake Av\, Saskatoon\, SK\, S7N 1A1\, Canada
CATEGORIES:Main church
ATTACH;FMTTYPE=image/jpeg:/wp-content/uploads/2020/04/67099006_3611242995582646_2014237995653136384_o.jpg
END:VEVENT
BEGIN:VEVENT
DTSTART;TZID=America/Regina:20231008T094500
DTEND;TZID=America/Regina:20231008T113000
DTSTAMP:20260424T155415
CREATED:20210603T065650Z
LAST-MODIFIED:20210603T065650Z
UID:6799-1696758300-1696764600@www.rccgsaskatoon.org
SUMMARY:SECOND SERVICE
DESCRIPTION:
URL:https://www.rccgsaskatoon.org/event/second-service-2023-10-08/
LOCATION:RCCG Jesus House For All Nations\, 601 Eastlake Av\, Saskatoon\, SK\, S7N 1A1\, Canada
CATEGORIES:Main church
ATTACH;FMTTYPE=image/jpeg:/wp-content/uploads/2022/05/Jesus-House101.jpg
END:VEVENT
BEGIN:VEVENT
DTSTART;TZID=America/Regina:20231011T190000
DTEND;TZID=America/Regina:20231011T203000
DTSTAMP:20260424T155415
CREATED:20201025T160145Z
LAST-MODIFIED:20201025T160145Z
UID:6801-1697050800-1697056200@www.rccgsaskatoon.org
SUMMARY:WEEKLY BIBLE STUDY (DIGGING DEEP)
DESCRIPTION:
URL:https://www.rccgsaskatoon.org/event/weekly-bible-study-digging-deep-2023-10-11/
LOCATION:RCCG Jesus House For All Nations\, 601 Eastlake Av\, Saskatoon\, SK\, S7N 1A1\, Canada
CATEGORIES:Chosen-Generation,Main church
ATTACH;FMTTYPE=image/jpeg:/wp-content/uploads/2020/04/Sunday-School.jpg
END:VEVENT
BEGIN:VEVENT
DTSTART;TZID=America/Regina:20231015T074500
DTEND;TZID=America/Regina:20231015T093000
DTSTAMP:20260424T155415
CREATED:20210603T071505Z
LAST-MODIFIED:20210603T071505Z
UID:6805-1697355900-1697362200@www.rccgsaskatoon.org
SUMMARY:FIRST SERVICE
DESCRIPTION:
URL:https://www.rccgsaskatoon.org/event/first-service-2-2023-10-15/
LOCATION:RCCG Jesus House For All Nations\, 601 Eastlake Av\, Saskatoon\, SK\, S7N 1A1\, Canada
CATEGORIES:Main church
ATTACH;FMTTYPE=image/jpeg:/wp-content/uploads/2020/04/67099006_3611242995582646_2014237995653136384_o.jpg
END:VEVENT
BEGIN:VEVENT
DTSTART;TZID=America/Regina:20231015T094500
DTEND;TZID=America/Regina:20231015T113000
DTSTAMP:20260424T155415
CREATED:20210603T065650Z
LAST-MODIFIED:20210603T065650Z
UID:6806-1697363100-1697369400@www.rccgsaskatoon.org
SUMMARY:SECOND SERVICE
DESCRIPTION:
URL:https://www.rccgsaskatoon.org/event/second-service-2023-10-15/
LOCATION:RCCG Jesus House For All Nations\, 601 Eastlake Av\, Saskatoon\, SK\, S7N 1A1\, Canada
CATEGORIES:Main church
ATTACH;FMTTYPE=image/jpeg:/wp-content/uploads/2022/05/Jesus-House101.jpg
END:VEVENT
BEGIN:VEVENT
DTSTART;TZID=America/Regina:20231018T190000
DTEND;TZID=America/Regina:20231018T203000
DTSTAMP:20260424T155415
CREATED:20201025T160145Z
LAST-MODIFIED:20201025T160145Z
UID:6829-1697655600-1697661000@www.rccgsaskatoon.org
SUMMARY:WEEKLY BIBLE STUDY (DIGGING DEEP)
DESCRIPTION:
URL:https://www.rccgsaskatoon.org/event/weekly-bible-study-digging-deep-2023-10-18/
LOCATION:RCCG Jesus House For All Nations\, 601 Eastlake Av\, Saskatoon\, SK\, S7N 1A1\, Canada
CATEGORIES:Chosen-Generation,Main church
ATTACH;FMTTYPE=image/jpeg:/wp-content/uploads/2020/04/Sunday-School.jpg
END:VEVENT
BEGIN:VEVENT
DTSTART;TZID=America/Regina:20231021T063000
DTEND;TZID=America/Regina:20231021T063000
DTSTAMP:20260424T155415
CREATED:20201027T084347Z
LAST-MODIFIED:20220604T184519Z
UID:6830-1697869800-1697869800@www.rccgsaskatoon.org
SUMMARY:JOYFUL EXPECTATION PRAYER FORUM
DESCRIPTION:3rd Saturday of each month @ 6:30am via teleconference on (306) 801-6377
URL:https://www.rccgsaskatoon.org/event/joyful-expectation-prayer-forum-2023-10-21/
CATEGORIES:Main church
ATTACH;FMTTYPE=image/jpeg:/wp-content/uploads/2020/10/Expected-Mum.jpg
END:VEVENT
BEGIN:VEVENT
DTSTART;TZID=America/Regina:20231022T074500
DTEND;TZID=America/Regina:20231022T093000
DTSTAMP:20260424T155415
CREATED:20210603T071505Z
LAST-MODIFIED:20210603T071505Z
UID:6834-1697960700-1697967000@www.rccgsaskatoon.org
SUMMARY:FIRST SERVICE
DESCRIPTION:
URL:https://www.rccgsaskatoon.org/event/first-service-2-2023-10-22/
LOCATION:RCCG Jesus House For All Nations\, 601 Eastlake Av\, Saskatoon\, SK\, S7N 1A1\, Canada
CATEGORIES:Main church
ATTACH;FMTTYPE=image/jpeg:/wp-content/uploads/2020/04/67099006_3611242995582646_2014237995653136384_o.jpg
END:VEVENT
BEGIN:VEVENT
DTSTART;TZID=America/Regina:20231022T094500
DTEND;TZID=America/Regina:20231022T113000
DTSTAMP:20260424T155415
CREATED:20210603T065650Z
LAST-MODIFIED:20210603T065650Z
UID:6835-1697967900-1697974200@www.rccgsaskatoon.org
SUMMARY:SECOND SERVICE
DESCRIPTION:
URL:https://www.rccgsaskatoon.org/event/second-service-2023-10-22/
LOCATION:RCCG Jesus House For All Nations\, 601 Eastlake Av\, Saskatoon\, SK\, S7N 1A1\, Canada
CATEGORIES:Main church
ATTACH;FMTTYPE=image/jpeg:/wp-content/uploads/2022/05/Jesus-House101.jpg
END:VEVENT
BEGIN:VEVENT
DTSTART;TZID=America/Regina:20231025T190000
DTEND;TZID=America/Regina:20231025T203000
DTSTAMP:20260424T155415
CREATED:20201025T160145Z
LAST-MODIFIED:20201025T160145Z
UID:6837-1698260400-1698265800@www.rccgsaskatoon.org
SUMMARY:WEEKLY BIBLE STUDY (DIGGING DEEP)
DESCRIPTION:
URL:https://www.rccgsaskatoon.org/event/weekly-bible-study-digging-deep-2023-10-25/
LOCATION:RCCG Jesus House For All Nations\, 601 Eastlake Av\, Saskatoon\, SK\, S7N 1A1\, Canada
CATEGORIES:Chosen-Generation,Main church
ATTACH;FMTTYPE=image/jpeg:/wp-content/uploads/2020/04/Sunday-School.jpg
END:VEVENT
BEGIN:VEVENT
DTSTART;TZID=America/Regina:20231027T220000
DTEND;TZID=America/Regina:20231027T220000
DTSTAMP:20260424T155415
CREATED:20201025T160145Z
LAST-MODIFIED:20220604T183901Z
UID:6838-1698444000-1698444000@www.rccgsaskatoon.org
SUMMARY:HOLY GHOST SERVICE (VIGIL)
DESCRIPTION:1st Friday of every month – Pastors’ Vigil/Prayer Altar (12 midnight – 3:00am) \n2nd Friday of every month – Choir Vigil (9:00pm – 12 midnight) \n3rd Friday of every month – Prayer Teams Vigil (12 midnight – 4:00am) \nLast Friday of every month – Church Holy Ghost Service (10:00pm – 1:00am)
URL:https://www.rccgsaskatoon.org/event/vigil-2023-10-27/
LOCATION:RCCG Jesus House For All Nations\, 601 Eastlake Av\, Saskatoon\, SK\, S7N 1A1\, Canada
CATEGORIES:Chosen-Generation,Main church
ATTACH;FMTTYPE=image/jpeg:/wp-content/uploads/2020/04/Prayer-group.jpg
END:VEVENT
BEGIN:VEVENT
DTSTART;TZID=America/Regina:20231029T074500
DTEND;TZID=America/Regina:20231029T093000
DTSTAMP:20260424T155415
CREATED:20210603T071505Z
LAST-MODIFIED:20210603T071505Z
UID:6842-1698565500-1698571800@www.rccgsaskatoon.org
SUMMARY:FIRST SERVICE
DESCRIPTION:
URL:https://www.rccgsaskatoon.org/event/first-service-2-2023-10-29/
LOCATION:RCCG Jesus House For All Nations\, 601 Eastlake Av\, Saskatoon\, SK\, S7N 1A1\, Canada
CATEGORIES:Main church
ATTACH;FMTTYPE=image/jpeg:/wp-content/uploads/2020/04/67099006_3611242995582646_2014237995653136384_o.jpg
END:VEVENT
BEGIN:VEVENT
DTSTART;TZID=America/Regina:20231029T094500
DTEND;TZID=America/Regina:20231029T113000
DTSTAMP:20260424T155415
CREATED:20210603T065650Z
LAST-MODIFIED:20210603T065650Z
UID:6843-1698572700-1698579000@www.rccgsaskatoon.org
SUMMARY:SECOND SERVICE
DESCRIPTION:
URL:https://www.rccgsaskatoon.org/event/second-service-2023-10-29/
LOCATION:RCCG Jesus House For All Nations\, 601 Eastlake Av\, Saskatoon\, SK\, S7N 1A1\, Canada
CATEGORIES:Main church
ATTACH;FMTTYPE=image/jpeg:/wp-content/uploads/2022/05/Jesus-House101.jpg
END:VEVENT
END:VCALENDAR