BEGIN:VCALENDAR
VERSION:2.0
PRODID:-//RCCG Saskatoon - ECPv6.15.11//NONSGML v1.0//EN
CALSCALE:GREGORIAN
METHOD:PUBLISH
X-WR-CALNAME:RCCG Saskatoon
X-ORIGINAL-URL:https://www.rccgsaskatoon.org
X-WR-CALDESC:Events for RCCG Saskatoon
REFRESH-INTERVAL;VALUE=DURATION:PT1H
X-Robots-Tag:noindex
X-PUBLISHED-TTL:PT1H
BEGIN:VTIMEZONE
TZID:America/Regina
BEGIN:STANDARD
TZOFFSETFROM:-0600
TZOFFSETTO:-0600
TZNAME:CST
DTSTART:20220101T000000
END:STANDARD
END:VTIMEZONE
BEGIN:VEVENT
DTSTART;TZID=America/Regina:20231231T200000
DTEND;TZID=America/Regina:20240101T010000
DTSTAMP:20260424T115106
CREATED:20210126T164227Z
LAST-MODIFIED:20210126T164227Z
UID:6955-1704052800-1704070800@www.rccgsaskatoon.org
SUMMARY:Festival of Praise
DESCRIPTION:
URL:https://www.rccgsaskatoon.org/event/festival-of-praise-2023-12-31/
LOCATION:Saskatoon
CATEGORIES:Chosen-Generation,Main church
END:VEVENT
BEGIN:VEVENT
DTSTART;TZID=America/Regina:20240103T190000
DTEND;TZID=America/Regina:20240103T203000
DTSTAMP:20260424T115106
CREATED:20201025T160145Z
LAST-MODIFIED:20201025T160145Z
UID:6961-1704308400-1704313800@www.rccgsaskatoon.org
SUMMARY:WEEKLY BIBLE STUDY (DIGGING DEEP)
DESCRIPTION:
URL:https://www.rccgsaskatoon.org/event/weekly-bible-study-digging-deep-2024-01-03/
LOCATION:RCCG Jesus House For All Nations\, 601 Eastlake Av\, Saskatoon\, SK\, S7N 1A1\, Canada
CATEGORIES:Chosen-Generation,Main church
ATTACH;FMTTYPE=image/jpeg:/wp-content/uploads/2020/04/Sunday-School.jpg
END:VEVENT
BEGIN:VEVENT
DTSTART;TZID=America/Regina:20240107T074500
DTEND;TZID=America/Regina:20240107T094500
DTSTAMP:20260424T115106
CREATED:20201025T160649Z
LAST-MODIFIED:20220604T181048Z
UID:7258-1704613500-1704620700@www.rccgsaskatoon.org
SUMMARY:THANKSGIVING SUNDAY - FIRST SERVICE
DESCRIPTION:
URL:https://www.rccgsaskatoon.org/event/joint-thanksgiving-service-2-2024-01-07/
LOCATION:RCCG Jesus House For All Nations\, 601 Eastlake Av\, Saskatoon\, SK\, S7N 1A1\, Canada
CATEGORIES:Main church
ATTACH;FMTTYPE=image/jpeg:/wp-content/uploads/2022/05/Jesus-House104.jpg
END:VEVENT
BEGIN:VEVENT
DTSTART;TZID=America/Regina:20240107T100000
DTEND;TZID=America/Regina:20240107T120000
DTSTAMP:20260424T115106
CREATED:20220306T160248Z
LAST-MODIFIED:20220306T160248Z
UID:7345-1704621600-1704628800@www.rccgsaskatoon.org
SUMMARY:THANKSGIVING SUNDAY - SECOND SERVICE
DESCRIPTION:
URL:https://www.rccgsaskatoon.org/event/thanksgiving-sunday-second-service-2024-01-07/
LOCATION:RCCG Jesus House For All Nations\, 601 Eastlake Av\, Saskatoon\, SK\, S7N 1A1\, Canada
CATEGORIES:Main church
ATTACH;FMTTYPE=image/jpeg:/wp-content/uploads/2022/05/Jesus-House103.jpg
END:VEVENT
BEGIN:VEVENT
DTSTART;TZID=America/Regina:20240110T190000
DTEND;TZID=America/Regina:20240110T203000
DTSTAMP:20260424T115106
CREATED:20201025T160145Z
LAST-MODIFIED:20201025T160145Z
UID:6966-1704913200-1704918600@www.rccgsaskatoon.org
SUMMARY:WEEKLY BIBLE STUDY (DIGGING DEEP)
DESCRIPTION:
URL:https://www.rccgsaskatoon.org/event/weekly-bible-study-digging-deep-2024-01-10/
LOCATION:RCCG Jesus House For All Nations\, 601 Eastlake Av\, Saskatoon\, SK\, S7N 1A1\, Canada
CATEGORIES:Chosen-Generation,Main church
ATTACH;FMTTYPE=image/jpeg:/wp-content/uploads/2020/04/Sunday-School.jpg
END:VEVENT
BEGIN:VEVENT
DTSTART;TZID=America/Regina:20240114T074500
DTEND;TZID=America/Regina:20240114T093000
DTSTAMP:20260424T115106
CREATED:20210603T071505Z
LAST-MODIFIED:20220604T191640Z
UID:6970-1705218300-1705224600@www.rccgsaskatoon.org
SUMMARY:FIRST SERVICE
DESCRIPTION:
URL:https://www.rccgsaskatoon.org/event/first-service-2-2024-01-14/
LOCATION:RCCG Jesus House For All Nations\, 601 Eastlake Av\, Saskatoon\, SK\, S7N 1A1\, Canada
CATEGORIES:Main church
ATTACH;FMTTYPE=image/jpeg:/wp-content/uploads/2020/04/67099006_3611242995582646_2014237995653136384_o.jpg
END:VEVENT
BEGIN:VEVENT
DTSTART;TZID=America/Regina:20240114T094500
DTEND;TZID=America/Regina:20240114T113000
DTSTAMP:20260424T115106
CREATED:20210603T065650Z
LAST-MODIFIED:20210603T065650Z
UID:6971-1705225500-1705231800@www.rccgsaskatoon.org
SUMMARY:SECOND SERVICE
DESCRIPTION:
URL:https://www.rccgsaskatoon.org/event/second-service-2024-01-14/
LOCATION:RCCG Jesus House For All Nations\, 601 Eastlake Av\, Saskatoon\, SK\, S7N 1A1\, Canada
CATEGORIES:Main church
ATTACH;FMTTYPE=image/jpeg:/wp-content/uploads/2022/05/Jesus-House101.jpg
END:VEVENT
BEGIN:VEVENT
DTSTART;TZID=America/Regina:20240117T190000
DTEND;TZID=America/Regina:20240117T203000
DTSTAMP:20260424T115106
CREATED:20201025T160145Z
LAST-MODIFIED:20201025T160145Z
UID:6973-1705518000-1705523400@www.rccgsaskatoon.org
SUMMARY:WEEKLY BIBLE STUDY (DIGGING DEEP)
DESCRIPTION:
URL:https://www.rccgsaskatoon.org/event/weekly-bible-study-digging-deep-2024-01-17/
LOCATION:RCCG Jesus House For All Nations\, 601 Eastlake Av\, Saskatoon\, SK\, S7N 1A1\, Canada
CATEGORIES:Chosen-Generation,Main church
ATTACH;FMTTYPE=image/jpeg:/wp-content/uploads/2020/04/Sunday-School.jpg
END:VEVENT
BEGIN:VEVENT
DTSTART;TZID=America/Regina:20240120T063000
DTEND;TZID=America/Regina:20240120T063000
DTSTAMP:20260424T115106
CREATED:20201027T084347Z
LAST-MODIFIED:20220604T184520Z
UID:6974-1705732200-1705732200@www.rccgsaskatoon.org
SUMMARY:JOYFUL EXPECTATION PRAYER FORUM
DESCRIPTION:3rd Saturday of each month @ 6:30am via teleconference on (306) 801-6377
URL:https://www.rccgsaskatoon.org/event/joyful-expectation-prayer-forum-2024-01-20/
CATEGORIES:Main church
ATTACH;FMTTYPE=image/jpeg:/wp-content/uploads/2020/10/Expected-Mum.jpg
END:VEVENT
BEGIN:VEVENT
DTSTART;TZID=America/Regina:20240121T074500
DTEND;TZID=America/Regina:20240121T093000
DTSTAMP:20260424T115106
CREATED:20210603T071505Z
LAST-MODIFIED:20220604T191640Z
UID:6978-1705823100-1705829400@www.rccgsaskatoon.org
SUMMARY:FIRST SERVICE
DESCRIPTION:
URL:https://www.rccgsaskatoon.org/event/first-service-2-2024-01-21/
LOCATION:RCCG Jesus House For All Nations\, 601 Eastlake Av\, Saskatoon\, SK\, S7N 1A1\, Canada
CATEGORIES:Main church
ATTACH;FMTTYPE=image/jpeg:/wp-content/uploads/2020/04/67099006_3611242995582646_2014237995653136384_o.jpg
END:VEVENT
BEGIN:VEVENT
DTSTART;TZID=America/Regina:20240121T094500
DTEND;TZID=America/Regina:20240121T113000
DTSTAMP:20260424T115106
CREATED:20210603T065650Z
LAST-MODIFIED:20210603T065650Z
UID:6979-1705830300-1705836600@www.rccgsaskatoon.org
SUMMARY:SECOND SERVICE
DESCRIPTION:
URL:https://www.rccgsaskatoon.org/event/second-service-2024-01-21/
LOCATION:RCCG Jesus House For All Nations\, 601 Eastlake Av\, Saskatoon\, SK\, S7N 1A1\, Canada
CATEGORIES:Main church
ATTACH;FMTTYPE=image/jpeg:/wp-content/uploads/2022/05/Jesus-House101.jpg
END:VEVENT
BEGIN:VEVENT
DTSTART;TZID=America/Regina:20240124T190000
DTEND;TZID=America/Regina:20240124T203000
DTSTAMP:20260424T115106
CREATED:20201025T160145Z
LAST-MODIFIED:20201025T160145Z
UID:7003-1706122800-1706128200@www.rccgsaskatoon.org
SUMMARY:WEEKLY BIBLE STUDY (DIGGING DEEP)
DESCRIPTION:
URL:https://www.rccgsaskatoon.org/event/weekly-bible-study-digging-deep-2024-01-24/
LOCATION:RCCG Jesus House For All Nations\, 601 Eastlake Av\, Saskatoon\, SK\, S7N 1A1\, Canada
CATEGORIES:Chosen-Generation,Main church
ATTACH;FMTTYPE=image/jpeg:/wp-content/uploads/2020/04/Sunday-School.jpg
END:VEVENT
BEGIN:VEVENT
DTSTART;TZID=America/Regina:20240125T090000
DTEND;TZID=America/Regina:20240125T120000
DTSTAMP:20260424T115106
CREATED:20210126T164028Z
LAST-MODIFIED:20210126T164028Z
UID:7004-1706173200-1706184000@www.rccgsaskatoon.org
SUMMARY:Christmas Day Service
DESCRIPTION:
URL:https://www.rccgsaskatoon.org/event/christmas-day-service-2024-01-25/
LOCATION:RCCG Jesus House For All Nations\, 601 Eastlake Av\, Saskatoon\, SK\, S7N 1A1\, Canada
CATEGORIES:Chosen-Generation,Main church
END:VEVENT
BEGIN:VEVENT
DTSTART;TZID=America/Regina:20240126T220000
DTEND;TZID=America/Regina:20240126T220000
DTSTAMP:20260424T115106
CREATED:20201025T160145Z
LAST-MODIFIED:20220604T183902Z
UID:7005-1706306400-1706306400@www.rccgsaskatoon.org
SUMMARY:HOLY GHOST SERVICE (VIGIL)
DESCRIPTION:1st Friday of every month – Pastors’ Vigil/Prayer Altar (12 midnight – 3:00am) \n2nd Friday of every month – Choir Vigil (9:00pm – 12 midnight) \n3rd Friday of every month – Prayer Teams Vigil (12 midnight – 4:00am) \nLast Friday of every month – Church Holy Ghost Service (10:00pm – 1:00am)
URL:https://www.rccgsaskatoon.org/event/vigil-2024-01-26/
LOCATION:RCCG Jesus House For All Nations\, 601 Eastlake Av\, Saskatoon\, SK\, S7N 1A1\, Canada
CATEGORIES:Chosen-Generation,Main church
ATTACH;FMTTYPE=image/jpeg:/wp-content/uploads/2020/04/Prayer-group.jpg
END:VEVENT
BEGIN:VEVENT
DTSTART;TZID=America/Regina:20240128T074500
DTEND;TZID=America/Regina:20240128T093000
DTSTAMP:20260424T115106
CREATED:20210603T071505Z
LAST-MODIFIED:20220604T191640Z
UID:7009-1706427900-1706434200@www.rccgsaskatoon.org
SUMMARY:FIRST SERVICE
DESCRIPTION:
URL:https://www.rccgsaskatoon.org/event/first-service-2-2024-01-28/
LOCATION:RCCG Jesus House For All Nations\, 601 Eastlake Av\, Saskatoon\, SK\, S7N 1A1\, Canada
CATEGORIES:Main church
ATTACH;FMTTYPE=image/jpeg:/wp-content/uploads/2020/04/67099006_3611242995582646_2014237995653136384_o.jpg
END:VEVENT
BEGIN:VEVENT
DTSTART;TZID=America/Regina:20240128T094500
DTEND;TZID=America/Regina:20240128T113000
DTSTAMP:20260424T115106
CREATED:20210603T065650Z
LAST-MODIFIED:20210603T065650Z
UID:7010-1706435100-1706441400@www.rccgsaskatoon.org
SUMMARY:SECOND SERVICE
DESCRIPTION:
URL:https://www.rccgsaskatoon.org/event/second-service-2024-01-28/
LOCATION:RCCG Jesus House For All Nations\, 601 Eastlake Av\, Saskatoon\, SK\, S7N 1A1\, Canada
CATEGORIES:Main church
ATTACH;FMTTYPE=image/jpeg:/wp-content/uploads/2022/05/Jesus-House101.jpg
END:VEVENT
BEGIN:VEVENT
DTSTART;TZID=America/Regina:20240131T190000
DTEND;TZID=America/Regina:20240131T203000
DTSTAMP:20260424T115106
CREATED:20201025T160145Z
LAST-MODIFIED:20201025T160145Z
UID:7016-1706727600-1706733000@www.rccgsaskatoon.org
SUMMARY:WEEKLY BIBLE STUDY (DIGGING DEEP)
DESCRIPTION:
URL:https://www.rccgsaskatoon.org/event/weekly-bible-study-digging-deep-2024-01-31/
LOCATION:RCCG Jesus House For All Nations\, 601 Eastlake Av\, Saskatoon\, SK\, S7N 1A1\, Canada
CATEGORIES:Chosen-Generation,Main church
ATTACH;FMTTYPE=image/jpeg:/wp-content/uploads/2020/04/Sunday-School.jpg
END:VEVENT
END:VCALENDAR