BEGIN:VCALENDAR
VERSION:2.0
PRODID:-//RCCG Saskatoon - ECPv6.15.11//NONSGML v1.0//EN
CALSCALE:GREGORIAN
METHOD:PUBLISH
X-ORIGINAL-URL:https://www.rccgsaskatoon.org
X-WR-CALDESC:Events for RCCG Saskatoon
REFRESH-INTERVAL;VALUE=DURATION:PT1H
X-Robots-Tag:noindex
X-PUBLISHED-TTL:PT1H
BEGIN:VTIMEZONE
TZID:America/Regina
BEGIN:STANDARD
TZOFFSETFROM:-0600
TZOFFSETTO:-0600
TZNAME:CST
DTSTART:20230101T000000
END:STANDARD
END:VTIMEZONE
BEGIN:VEVENT
DTSTART;TZID=America/Regina:20240303T074500
DTEND;TZID=America/Regina:20240303T094500
DTSTAMP:20260424T090109
CREATED:20201025T160649Z
LAST-MODIFIED:20220604T181048Z
UID:7260-1709451900-1709459100@www.rccgsaskatoon.org
SUMMARY:THANKSGIVING SUNDAY - FIRST SERVICE
DESCRIPTION:
URL:https://www.rccgsaskatoon.org/event/joint-thanksgiving-service-2-2024-03-03/
LOCATION:RCCG Jesus House For All Nations\, 601 Eastlake Av\, Saskatoon\, SK\, S7N 1A1\, Canada
CATEGORIES:Main church
ATTACH;FMTTYPE=image/jpeg:/wp-content/uploads/2022/05/Jesus-House104.jpg
END:VEVENT
BEGIN:VEVENT
DTSTART;TZID=America/Regina:20240303T100000
DTEND;TZID=America/Regina:20240303T120000
DTSTAMP:20260424T090109
CREATED:20220306T160248Z
LAST-MODIFIED:20220306T160248Z
UID:7347-1709460000-1709467200@www.rccgsaskatoon.org
SUMMARY:THANKSGIVING SUNDAY - SECOND SERVICE
DESCRIPTION:
URL:https://www.rccgsaskatoon.org/event/thanksgiving-sunday-second-service-2024-03-03/
LOCATION:RCCG Jesus House For All Nations\, 601 Eastlake Av\, Saskatoon\, SK\, S7N 1A1\, Canada
CATEGORIES:Main church
ATTACH;FMTTYPE=image/jpeg:/wp-content/uploads/2022/05/Jesus-House103.jpg
END:VEVENT
BEGIN:VEVENT
DTSTART;TZID=America/Regina:20240306T190000
DTEND;TZID=America/Regina:20240306T203000
DTSTAMP:20260424T090109
CREATED:20201025T160145Z
LAST-MODIFIED:20201025T160145Z
UID:7390-1709751600-1709757000@www.rccgsaskatoon.org
SUMMARY:WEEKLY BIBLE STUDY (DIGGING DEEP)
DESCRIPTION:
URL:https://www.rccgsaskatoon.org/event/weekly-bible-study-digging-deep-2024-03-06/
LOCATION:RCCG Jesus House For All Nations\, 601 Eastlake Av\, Saskatoon\, SK\, S7N 1A1\, Canada
CATEGORIES:Chosen-Generation,Main church
ATTACH;FMTTYPE=image/jpeg:/wp-content/uploads/2020/04/Sunday-School.jpg
END:VEVENT
BEGIN:VEVENT
DTSTART;TZID=America/Regina:20240310T074500
DTEND;TZID=America/Regina:20240310T093000
DTSTAMP:20260424T090109
CREATED:20210603T071505Z
LAST-MODIFIED:20220604T191640Z
UID:7394-1710056700-1710063000@www.rccgsaskatoon.org
SUMMARY:FIRST SERVICE
DESCRIPTION:
URL:https://www.rccgsaskatoon.org/event/first-service-2-2024-03-10/
LOCATION:RCCG Jesus House For All Nations\, 601 Eastlake Av\, Saskatoon\, SK\, S7N 1A1\, Canada
CATEGORIES:Main church
ATTACH;FMTTYPE=image/jpeg:/wp-content/uploads/2020/04/67099006_3611242995582646_2014237995653136384_o.jpg
END:VEVENT
BEGIN:VEVENT
DTSTART;TZID=America/Regina:20240310T094500
DTEND;TZID=America/Regina:20240310T113000
DTSTAMP:20260424T090109
CREATED:20210603T065650Z
LAST-MODIFIED:20210603T065650Z
UID:7395-1710063900-1710070200@www.rccgsaskatoon.org
SUMMARY:SECOND SERVICE
DESCRIPTION:
URL:https://www.rccgsaskatoon.org/event/second-service-2024-03-10/
LOCATION:RCCG Jesus House For All Nations\, 601 Eastlake Av\, Saskatoon\, SK\, S7N 1A1\, Canada
CATEGORIES:Main church
ATTACH;FMTTYPE=image/jpeg:/wp-content/uploads/2022/05/Jesus-House101.jpg
END:VEVENT
BEGIN:VEVENT
DTSTART;TZID=America/Regina:20240313T190000
DTEND;TZID=America/Regina:20240313T203000
DTSTAMP:20260424T090109
CREATED:20201025T160145Z
LAST-MODIFIED:20201025T160145Z
UID:7406-1710356400-1710361800@www.rccgsaskatoon.org
SUMMARY:WEEKLY BIBLE STUDY (DIGGING DEEP)
DESCRIPTION:
URL:https://www.rccgsaskatoon.org/event/weekly-bible-study-digging-deep-2024-03-13/
LOCATION:RCCG Jesus House For All Nations\, 601 Eastlake Av\, Saskatoon\, SK\, S7N 1A1\, Canada
CATEGORIES:Chosen-Generation,Main church
ATTACH;FMTTYPE=image/jpeg:/wp-content/uploads/2020/04/Sunday-School.jpg
END:VEVENT
BEGIN:VEVENT
DTSTART;TZID=America/Regina:20240316T063000
DTEND;TZID=America/Regina:20240316T063000
DTSTAMP:20260424T090109
CREATED:20201027T084347Z
LAST-MODIFIED:20220604T184520Z
UID:7407-1710570600-1710570600@www.rccgsaskatoon.org
SUMMARY:JOYFUL EXPECTATION PRAYER FORUM
DESCRIPTION:3rd Saturday of each month @ 6:30am via teleconference on (306) 801-6377
URL:https://www.rccgsaskatoon.org/event/joyful-expectation-prayer-forum-2024-03-16/
CATEGORIES:Main church
ATTACH;FMTTYPE=image/jpeg:/wp-content/uploads/2020/10/Expected-Mum.jpg
END:VEVENT
BEGIN:VEVENT
DTSTART;TZID=America/Regina:20240317T074500
DTEND;TZID=America/Regina:20240317T093000
DTSTAMP:20260424T090109
CREATED:20210603T071505Z
LAST-MODIFIED:20220604T191640Z
UID:7411-1710661500-1710667800@www.rccgsaskatoon.org
SUMMARY:FIRST SERVICE
DESCRIPTION:
URL:https://www.rccgsaskatoon.org/event/first-service-2-2024-03-17/
LOCATION:RCCG Jesus House For All Nations\, 601 Eastlake Av\, Saskatoon\, SK\, S7N 1A1\, Canada
CATEGORIES:Main church
ATTACH;FMTTYPE=image/jpeg:/wp-content/uploads/2020/04/67099006_3611242995582646_2014237995653136384_o.jpg
END:VEVENT
BEGIN:VEVENT
DTSTART;TZID=America/Regina:20240317T094500
DTEND;TZID=America/Regina:20240317T113000
DTSTAMP:20260424T090109
CREATED:20210603T065650Z
LAST-MODIFIED:20210603T065650Z
UID:7412-1710668700-1710675000@www.rccgsaskatoon.org
SUMMARY:SECOND SERVICE
DESCRIPTION:
URL:https://www.rccgsaskatoon.org/event/second-service-2024-03-17/
LOCATION:RCCG Jesus House For All Nations\, 601 Eastlake Av\, Saskatoon\, SK\, S7N 1A1\, Canada
CATEGORIES:Main church
ATTACH;FMTTYPE=image/jpeg:/wp-content/uploads/2022/05/Jesus-House101.jpg
END:VEVENT
BEGIN:VEVENT
DTSTART;TZID=America/Regina:20240320T190000
DTEND;TZID=America/Regina:20240320T203000
DTSTAMP:20260424T090109
CREATED:20201025T160145Z
LAST-MODIFIED:20201025T160145Z
UID:7414-1710961200-1710966600@www.rccgsaskatoon.org
SUMMARY:WEEKLY BIBLE STUDY (DIGGING DEEP)
DESCRIPTION:
URL:https://www.rccgsaskatoon.org/event/weekly-bible-study-digging-deep-2024-03-20/
LOCATION:RCCG Jesus House For All Nations\, 601 Eastlake Av\, Saskatoon\, SK\, S7N 1A1\, Canada
CATEGORIES:Chosen-Generation,Main church
ATTACH;FMTTYPE=image/jpeg:/wp-content/uploads/2020/04/Sunday-School.jpg
END:VEVENT
BEGIN:VEVENT
DTSTART;TZID=America/Regina:20240324T074500
DTEND;TZID=America/Regina:20240324T093000
DTSTAMP:20260424T090109
CREATED:20210603T071505Z
LAST-MODIFIED:20220604T191640Z
UID:7418-1711266300-1711272600@www.rccgsaskatoon.org
SUMMARY:FIRST SERVICE
DESCRIPTION:
URL:https://www.rccgsaskatoon.org/event/first-service-2-2024-03-24/
LOCATION:RCCG Jesus House For All Nations\, 601 Eastlake Av\, Saskatoon\, SK\, S7N 1A1\, Canada
CATEGORIES:Main church
ATTACH;FMTTYPE=image/jpeg:/wp-content/uploads/2020/04/67099006_3611242995582646_2014237995653136384_o.jpg
END:VEVENT
BEGIN:VEVENT
DTSTART;TZID=America/Regina:20240324T094500
DTEND;TZID=America/Regina:20240324T113000
DTSTAMP:20260424T090109
CREATED:20210603T065650Z
LAST-MODIFIED:20210603T065650Z
UID:7419-1711273500-1711279800@www.rccgsaskatoon.org
SUMMARY:SECOND SERVICE
DESCRIPTION:
URL:https://www.rccgsaskatoon.org/event/second-service-2024-03-24/
LOCATION:RCCG Jesus House For All Nations\, 601 Eastlake Av\, Saskatoon\, SK\, S7N 1A1\, Canada
CATEGORIES:Main church
ATTACH;FMTTYPE=image/jpeg:/wp-content/uploads/2022/05/Jesus-House101.jpg
END:VEVENT
BEGIN:VEVENT
DTSTART;TZID=America/Regina:20240327T190000
DTEND;TZID=America/Regina:20240327T203000
DTSTAMP:20260424T090109
CREATED:20201025T160145Z
LAST-MODIFIED:20201025T160145Z
UID:7421-1711566000-1711571400@www.rccgsaskatoon.org
SUMMARY:WEEKLY BIBLE STUDY (DIGGING DEEP)
DESCRIPTION:
URL:https://www.rccgsaskatoon.org/event/weekly-bible-study-digging-deep-2024-03-27/
LOCATION:RCCG Jesus House For All Nations\, 601 Eastlake Av\, Saskatoon\, SK\, S7N 1A1\, Canada
CATEGORIES:Chosen-Generation,Main church
ATTACH;FMTTYPE=image/jpeg:/wp-content/uploads/2020/04/Sunday-School.jpg
END:VEVENT
BEGIN:VEVENT
DTSTART;TZID=America/Regina:20240329T220000
DTEND;TZID=America/Regina:20240329T220000
DTSTAMP:20260424T090109
CREATED:20201025T160145Z
LAST-MODIFIED:20220604T183903Z
UID:7426-1711749600-1711749600@www.rccgsaskatoon.org
SUMMARY:HOLY GHOST SERVICE (VIGIL)
DESCRIPTION:1st Friday of every month – Pastors’ Vigil/Prayer Altar (12 midnight – 3:00am) \n2nd Friday of every month – Choir Vigil (9:00pm – 12 midnight) \n3rd Friday of every month – Prayer Teams Vigil (12 midnight – 4:00am) \nLast Friday of every month – Church Holy Ghost Service (10:00pm – 1:00am)
URL:https://www.rccgsaskatoon.org/event/vigil-2024-03-29/
LOCATION:RCCG Jesus House For All Nations\, 601 Eastlake Av\, Saskatoon\, SK\, S7N 1A1\, Canada
CATEGORIES:Chosen-Generation,Main church
ATTACH;FMTTYPE=image/jpeg:/wp-content/uploads/2020/04/Prayer-group.jpg
END:VEVENT
BEGIN:VEVENT
DTSTART;TZID=America/Regina:20240331T074500
DTEND;TZID=America/Regina:20240331T093000
DTSTAMP:20260424T090109
CREATED:20210603T071505Z
LAST-MODIFIED:20220604T191640Z
UID:7434-1711871100-1711877400@www.rccgsaskatoon.org
SUMMARY:FIRST SERVICE
DESCRIPTION:
URL:https://www.rccgsaskatoon.org/event/first-service-2-2024-03-31/
LOCATION:RCCG Jesus House For All Nations\, 601 Eastlake Av\, Saskatoon\, SK\, S7N 1A1\, Canada
CATEGORIES:Main church
ATTACH;FMTTYPE=image/jpeg:/wp-content/uploads/2020/04/67099006_3611242995582646_2014237995653136384_o.jpg
END:VEVENT
BEGIN:VEVENT
DTSTART;TZID=America/Regina:20240331T094500
DTEND;TZID=America/Regina:20240331T113000
DTSTAMP:20260424T090109
CREATED:20210603T065650Z
LAST-MODIFIED:20210603T065650Z
UID:7435-1711878300-1711884600@www.rccgsaskatoon.org
SUMMARY:SECOND SERVICE
DESCRIPTION:
URL:https://www.rccgsaskatoon.org/event/second-service-2024-03-31/
LOCATION:RCCG Jesus House For All Nations\, 601 Eastlake Av\, Saskatoon\, SK\, S7N 1A1\, Canada
CATEGORIES:Main church
ATTACH;FMTTYPE=image/jpeg:/wp-content/uploads/2022/05/Jesus-House101.jpg
END:VEVENT
END:VCALENDAR