BEGIN:VCALENDAR
VERSION:2.0
PRODID:-//RCCG Saskatoon - ECPv6.15.11//NONSGML v1.0//EN
CALSCALE:GREGORIAN
METHOD:PUBLISH
X-WR-CALNAME:RCCG Saskatoon
X-ORIGINAL-URL:https://www.rccgsaskatoon.org
X-WR-CALDESC:Events for RCCG Saskatoon
REFRESH-INTERVAL;VALUE=DURATION:PT1H
X-Robots-Tag:noindex
X-PUBLISHED-TTL:PT1H
BEGIN:VTIMEZONE
TZID:America/Regina
BEGIN:STANDARD
TZOFFSETFROM:-0600
TZOFFSETTO:-0600
TZNAME:CST
DTSTART:20230101T000000
END:STANDARD
END:VTIMEZONE
BEGIN:VEVENT
DTSTART;TZID=America/Regina:20240501T190000
DTEND;TZID=America/Regina:20240501T203000
DTSTAMP:20260424T055133
CREATED:20201025T160145Z
LAST-MODIFIED:20201025T160145Z
UID:8336-1714590000-1714595400@www.rccgsaskatoon.org
SUMMARY:WEEKLY BIBLE STUDY (DIGGING DEEP)
DESCRIPTION:
URL:https://www.rccgsaskatoon.org/event/weekly-bible-study-digging-deep-2024-05-01/
LOCATION:RCCG Jesus House For All Nations\, 601 Eastlake Av\, Saskatoon\, SK\, S7N 1A1\, Canada
CATEGORIES:Chosen-Generation,Main church
ATTACH;FMTTYPE=image/jpeg:/wp-content/uploads/2020/04/Sunday-School.jpg
END:VEVENT
BEGIN:VEVENT
DTSTART;TZID=America/Regina:20240505T074500
DTEND;TZID=America/Regina:20240505T094500
DTSTAMP:20260424T055133
CREATED:20201025T160649Z
LAST-MODIFIED:20201025T160649Z
UID:8463-1714895100-1714902300@www.rccgsaskatoon.org
SUMMARY:THANKSGIVING SUNDAY - FIRST SERVICE
DESCRIPTION:
URL:https://www.rccgsaskatoon.org/event/joint-thanksgiving-service-2-2024-05-05/
LOCATION:RCCG Jesus House For All Nations\, 601 Eastlake Av\, Saskatoon\, SK\, S7N 1A1\, Canada
CATEGORIES:Main church
ATTACH;FMTTYPE=image/jpeg:/wp-content/uploads/2022/05/Jesus-House104.jpg
END:VEVENT
BEGIN:VEVENT
DTSTART;TZID=America/Regina:20240505T100000
DTEND;TZID=America/Regina:20240505T120000
DTSTAMP:20260424T055133
CREATED:20220306T160248Z
LAST-MODIFIED:20220306T160248Z
UID:8465-1714903200-1714910400@www.rccgsaskatoon.org
SUMMARY:THANKSGIVING SUNDAY - SECOND SERVICE
DESCRIPTION:
URL:https://www.rccgsaskatoon.org/event/thanksgiving-sunday-second-service-2024-05-05/
LOCATION:RCCG Jesus House For All Nations\, 601 Eastlake Av\, Saskatoon\, SK\, S7N 1A1\, Canada
CATEGORIES:Main church
ATTACH;FMTTYPE=image/jpeg:/wp-content/uploads/2022/05/Jesus-House103.jpg
END:VEVENT
BEGIN:VEVENT
DTSTART;TZID=America/Regina:20240508T190000
DTEND;TZID=America/Regina:20240508T203000
DTSTAMP:20260424T055133
CREATED:20201025T160145Z
LAST-MODIFIED:20201025T160145Z
UID:8477-1715194800-1715200200@www.rccgsaskatoon.org
SUMMARY:WEEKLY BIBLE STUDY (DIGGING DEEP)
DESCRIPTION:
URL:https://www.rccgsaskatoon.org/event/weekly-bible-study-digging-deep-2024-05-08/
LOCATION:RCCG Jesus House For All Nations\, 601 Eastlake Av\, Saskatoon\, SK\, S7N 1A1\, Canada
CATEGORIES:Chosen-Generation,Main church
ATTACH;FMTTYPE=image/jpeg:/wp-content/uploads/2020/04/Sunday-School.jpg
END:VEVENT
BEGIN:VEVENT
DTSTART;TZID=America/Regina:20240512T074500
DTEND;TZID=America/Regina:20240512T093000
DTSTAMP:20260424T055133
CREATED:20210603T071505Z
LAST-MODIFIED:20220604T191639Z
UID:8485-1715499900-1715506200@www.rccgsaskatoon.org
SUMMARY:FIRST SERVICE
DESCRIPTION:
URL:https://www.rccgsaskatoon.org/event/first-service-2-2024-05-12/
LOCATION:RCCG Jesus House For All Nations\, 601 Eastlake Av\, Saskatoon\, SK\, S7N 1A1\, Canada
CATEGORIES:Main church
ATTACH;FMTTYPE=image/jpeg:/wp-content/uploads/2020/04/67099006_3611242995582646_2014237995653136384_o.jpg
END:VEVENT
BEGIN:VEVENT
DTSTART;TZID=America/Regina:20240512T094500
DTEND;TZID=America/Regina:20240512T113000
DTSTAMP:20260424T055133
CREATED:20210603T065650Z
LAST-MODIFIED:20210603T065650Z
UID:8486-1715507100-1715513400@www.rccgsaskatoon.org
SUMMARY:SECOND SERVICE
DESCRIPTION:
URL:https://www.rccgsaskatoon.org/event/second-service-2024-05-12/
LOCATION:RCCG Jesus House For All Nations\, 601 Eastlake Av\, Saskatoon\, SK\, S7N 1A1\, Canada
CATEGORIES:Main church
ATTACH;FMTTYPE=image/jpeg:/wp-content/uploads/2022/05/Jesus-House101.jpg
END:VEVENT
BEGIN:VEVENT
DTSTART;TZID=America/Regina:20240515T190000
DTEND;TZID=America/Regina:20240515T203000
DTSTAMP:20260424T055133
CREATED:20201025T160145Z
LAST-MODIFIED:20201025T160145Z
UID:8506-1715799600-1715805000@www.rccgsaskatoon.org
SUMMARY:WEEKLY BIBLE STUDY (DIGGING DEEP)
DESCRIPTION:
URL:https://www.rccgsaskatoon.org/event/weekly-bible-study-digging-deep-2024-05-15/
LOCATION:RCCG Jesus House For All Nations\, 601 Eastlake Av\, Saskatoon\, SK\, S7N 1A1\, Canada
CATEGORIES:Chosen-Generation,Main church
ATTACH;FMTTYPE=image/jpeg:/wp-content/uploads/2020/04/Sunday-School.jpg
END:VEVENT
BEGIN:VEVENT
DTSTART;TZID=America/Regina:20240518T063000
DTEND;TZID=America/Regina:20240518T063000
DTSTAMP:20260424T055133
CREATED:20201027T084347Z
LAST-MODIFIED:20220604T184521Z
UID:8507-1716013800-1716013800@www.rccgsaskatoon.org
SUMMARY:JOYFUL EXPECTATION PRAYER FORUM
DESCRIPTION:3rd Saturday of each month @ 6:30am via teleconference on (306) 801-6377
URL:https://www.rccgsaskatoon.org/event/joyful-expectation-prayer-forum-2024-05-18/
CATEGORIES:Main church
ATTACH;FMTTYPE=image/jpeg:/wp-content/uploads/2020/10/Expected-Mum.jpg
END:VEVENT
BEGIN:VEVENT
DTSTART;TZID=America/Regina:20240519T074500
DTEND;TZID=America/Regina:20240519T093000
DTSTAMP:20260424T055133
CREATED:20210603T071505Z
LAST-MODIFIED:20220604T191639Z
UID:8510-1716104700-1716111000@www.rccgsaskatoon.org
SUMMARY:FIRST SERVICE
DESCRIPTION:
URL:https://www.rccgsaskatoon.org/event/first-service-2-2024-05-19/
LOCATION:RCCG Jesus House For All Nations\, 601 Eastlake Av\, Saskatoon\, SK\, S7N 1A1\, Canada
CATEGORIES:Main church
ATTACH;FMTTYPE=image/jpeg:/wp-content/uploads/2020/04/67099006_3611242995582646_2014237995653136384_o.jpg
END:VEVENT
BEGIN:VEVENT
DTSTART;TZID=America/Regina:20240519T094500
DTEND;TZID=America/Regina:20240519T113000
DTSTAMP:20260424T055133
CREATED:20210603T065650Z
LAST-MODIFIED:20210603T065650Z
UID:8511-1716111900-1716118200@www.rccgsaskatoon.org
SUMMARY:SECOND SERVICE
DESCRIPTION:
URL:https://www.rccgsaskatoon.org/event/second-service-2024-05-19/
LOCATION:RCCG Jesus House For All Nations\, 601 Eastlake Av\, Saskatoon\, SK\, S7N 1A1\, Canada
CATEGORIES:Main church
ATTACH;FMTTYPE=image/jpeg:/wp-content/uploads/2022/05/Jesus-House101.jpg
END:VEVENT
BEGIN:VEVENT
DTSTART;TZID=America/Regina:20240522T190000
DTEND;TZID=America/Regina:20240522T203000
DTSTAMP:20260424T055133
CREATED:20201025T160145Z
LAST-MODIFIED:20201025T160145Z
UID:8528-1716404400-1716409800@www.rccgsaskatoon.org
SUMMARY:WEEKLY BIBLE STUDY (DIGGING DEEP)
DESCRIPTION:
URL:https://www.rccgsaskatoon.org/event/weekly-bible-study-digging-deep-2024-05-22/
LOCATION:RCCG Jesus House For All Nations\, 601 Eastlake Av\, Saskatoon\, SK\, S7N 1A1\, Canada
CATEGORIES:Chosen-Generation,Main church
ATTACH;FMTTYPE=image/jpeg:/wp-content/uploads/2020/04/Sunday-School.jpg
END:VEVENT
BEGIN:VEVENT
DTSTART;TZID=America/Regina:20240526T074500
DTEND;TZID=America/Regina:20240526T093000
DTSTAMP:20260424T055133
CREATED:20210603T071505Z
LAST-MODIFIED:20220604T191639Z
UID:8622-1716709500-1716715800@www.rccgsaskatoon.org
SUMMARY:FIRST SERVICE
DESCRIPTION:
URL:https://www.rccgsaskatoon.org/event/first-service-2-2024-05-26/
LOCATION:RCCG Jesus House For All Nations\, 601 Eastlake Av\, Saskatoon\, SK\, S7N 1A1\, Canada
CATEGORIES:Main church
ATTACH;FMTTYPE=image/jpeg:/wp-content/uploads/2020/04/67099006_3611242995582646_2014237995653136384_o.jpg
END:VEVENT
BEGIN:VEVENT
DTSTART;TZID=America/Regina:20240526T094500
DTEND;TZID=America/Regina:20240526T113000
DTSTAMP:20260424T055133
CREATED:20210603T065650Z
LAST-MODIFIED:20210603T065650Z
UID:8623-1716716700-1716723000@www.rccgsaskatoon.org
SUMMARY:SECOND SERVICE
DESCRIPTION:
URL:https://www.rccgsaskatoon.org/event/second-service-2024-05-26/
LOCATION:RCCG Jesus House For All Nations\, 601 Eastlake Av\, Saskatoon\, SK\, S7N 1A1\, Canada
CATEGORIES:Main church
ATTACH;FMTTYPE=image/jpeg:/wp-content/uploads/2022/05/Jesus-House101.jpg
END:VEVENT
BEGIN:VEVENT
DTSTART;TZID=America/Regina:20240529T190000
DTEND;TZID=America/Regina:20240529T203000
DTSTAMP:20260424T055133
CREATED:20201025T160145Z
LAST-MODIFIED:20201025T160145Z
UID:8657-1717009200-1717014600@www.rccgsaskatoon.org
SUMMARY:WEEKLY BIBLE STUDY (DIGGING DEEP)
DESCRIPTION:
URL:https://www.rccgsaskatoon.org/event/weekly-bible-study-digging-deep-2024-05-29/
LOCATION:RCCG Jesus House For All Nations\, 601 Eastlake Av\, Saskatoon\, SK\, S7N 1A1\, Canada
CATEGORIES:Chosen-Generation,Main church
ATTACH;FMTTYPE=image/jpeg:/wp-content/uploads/2020/04/Sunday-School.jpg
END:VEVENT
BEGIN:VEVENT
DTSTART;TZID=America/Regina:20240531T220000
DTEND;TZID=America/Regina:20240531T220000
DTSTAMP:20260424T055133
CREATED:20201025T160145Z
LAST-MODIFIED:20220604T183903Z
UID:8658-1717192800-1717192800@www.rccgsaskatoon.org
SUMMARY:HOLY GHOST SERVICE (VIGIL)
DESCRIPTION:1st Friday of every month – Pastors’ Vigil/Prayer Altar (12 midnight – 3:00am) \n2nd Friday of every month – Choir Vigil (9:00pm – 12 midnight) \n3rd Friday of every month – Prayer Teams Vigil (12 midnight – 4:00am) \nLast Friday of every month – Church Holy Ghost Service (10:00pm – 1:00am)
URL:https://www.rccgsaskatoon.org/event/vigil-2024-05-31/
LOCATION:RCCG Jesus House For All Nations\, 601 Eastlake Av\, Saskatoon\, SK\, S7N 1A1\, Canada
CATEGORIES:Chosen-Generation,Main church
ATTACH;FMTTYPE=image/jpeg:/wp-content/uploads/2020/04/Prayer-group.jpg
END:VEVENT
END:VCALENDAR